Workbook
Name CustCode: 'Top Sheet'!$B$6
Name DateEnd: 'Top Sheet'!$E$3
Name DateStart: 'Top Sheet'!$D$3
Name DealerName: 'Top Sheet'!$B$7
Name Plant: 'Top Sheet'!$B$8
Name TSCom: 'Top Sheet'!$B$15
Name TSDom: 'Top Sheet'!$B$16
Name WPPCom: 'Top Sheet'!$B$11
Name WPPDom: 'Top Sheet'!$B$12

Sheet Top Sheet
B2: Isla LPG Corporation | D2: FROM | E2: TO
B3: GMS Dealer Submission Template for the period: | D3: ='[1]TOP SHEET'!$D$8 -> 45962 | E3: ='[1]TOP SHEET'!$E$8 -> 45991
A6: Customer code: | B6: C2-0000748
A7: Dealer: | B7: ALJALANI SALES MARKETING | D7: Check: Dealer: | E7: =IF(INDEX('[2]Data out'!$B:$B,MATCH(CustCode,'[2]Data out'!$A:$A,0))=DealerName,"OK","Name does not match.") -> OK
A8: Plant: | B8: =INDEX('[2]Data out'!$C:$C,MATCH(CustCode,'[2]Data out'!$A:$A,0)) -> CAMSUR/Daraga
A10: WPP
A11: Commercial | B11: =VLOOKUP(CustCode,'[1]Data out'!$A:$N,14,FALSE) -> 86.5015
A12: Domestic | B12: =VLOOKUP(CustCode,'[1]Data out'!$A:$O,15,FALSE) -> 87.0515
A14: Tactical Support
A15: Commercial | B15: =VLOOKUP(CustCode,'[1]DOI FOR THE CLAIM MONTH'!$A:$O,15,FALSE) -> 15
A16: Domestic | B16: =VLOOKUP(CustCode,'[1]DOI FOR THE CLAIM MONTH'!$A:$E,5,FALSE) -> 20.72
A18: FBAM INSTRUCTIONS ON INVENTORY MONITORING WERE HERE

Sheet Commercial GMS
A1: Dealer: | C1: =DealerName -> ALJALANI SALES MARKETING | E1: BACK TO TOP SHEET
A2: Plant: | C2: =Plant -> CAMSUR/Daraga | D2: INSTRUCTIONS: | F2: 1. Only enrolled accounts can be claimed for the month. Enrolled Accounts together with the approved support can be seen in the Enrolled Account Sheet.
A3: Month of Claim | C3: =DateStart -> 45962 | F3: 2. Those that are not enrolled should be enrolled through the FBAM and will take effect in NEXT MONTH's SUBMISSION.
A4: Segment: | C4: COMMERCIAL | F4: 3. GMS will up to the approved limit only. Red Cells in Column L have approved support lower than the resulting support.
A5: Commercial GMS Amount | C5: =SUM($N$9:$N$5008) -> 64395.907 | E5: =D5-C5 -> -64395.907 | F5: 4. Those whose resulting GMS is higher than approved support should be re-enrolled but will only take effect in NEXT MONTH'S SUBMISSION.
A6: GMS Volume in kg | C6: =SUM($D$9:$D$5008) -> 6150 | E6: =D6-C6 -> -6150
A8: Date (INPUT) | B8: Invoice Number (INPUT) | C8: Account (INPUT AS DROPDOWN) | D8: Volume in kg (INPUT) | E8: VATEX End Customer Price PER KG (INPUT) | F8: WPP (P/kg) | G8: Tactical DOI (P/kg) | H8: Net WPP (P/kg) | I8: Dealer Margin (P/kg) | J8: GMS Rate (P/kg) | K8: Resulting Price Support (P/kg) | L8: Approved Price Support (P/kg) | M8: Should be Price Support Rate (P/kg) | N8: GMS Amount (Php)
A9: 45972 | B9: 38221 | C9: ABAN LAUNDRY | D9: 50 | E9: =84.82/1.12 -> 75.732143 | F9: =WPPCom -> 86.5015 | G9: =TSCom -> 15 | H9: =F9-G9 -> 71.5015 | I9: =E9-H9 -> 4.2306429 | J9: =IF(ISNA(VLOOKUP(C9,'Com Enrolled Accounts'!$A:$B,2,0))=TRUE,0,VLOOKUP(C9,'Com Enrolled Accounts'!$A:$B,2,0)) -> 8.27 | K9: =IF(J9=0,0,J9-I9) -> 4.0393571 | L9: =IF(ISNA(VLOOKUP(C9,'Com Enrolled Accounts'!$A:$C,3,0))=TRUE,0,VLOOKUP(C9,'Com Enrolled Accounts'!$A:$C,3,0)) -> 15.03 | M9: =IF(L9>K9,K9,L9) -> 4.0393571 | N9: =IF(M9<0,0,M9*D9) -> 201.96786
A10: 45989 | B10: 38726 | C10: ABAN LAUNDRY | D10: 50 | E10: =84.82/1.12 -> 75.732143 | F10: =WPPCom -> 86.5015 | G10: =TSCom -> 15 | H10: =F10-G10 -> 71.5015 | I10: =E10-H10 -> 4.2306429 | J10: =IF(ISNA(VLOOKUP(C10,'Com Enrolled Accounts'!$A:$B,2,0))=TRUE,0,VLOOKUP(C10,'Com Enrolled Accounts'!$A:$B,2,0)) -> 8.27 | K10: =IF(J10=0,0,J10-I10) -> 4.0393571 | L10: =IF(ISNA(VLOOKUP(C10,'Com Enrolled Accounts'!$A:$C,3,0))=TRUE,0,VLOOKUP(C10,'Com Enrolled Accounts'!$A:$C,3,0)) -> 15.03 | M10: =IF(L10>K10,K10,L10) -> 4.0393571 | N10: =IF(M10<0,0,M10*D10) -> 201.96786
A11: 45968 | B11: 38098 | C11: AVEGAIL'S LAUNDRY | D11: 50 | E11: =84.82/1.12 -> 75.732143 | F11: =WPPCom -> 86.5015 | G11: =TSCom -> 15 | H11: =F11-G11 -> 71.5015 | I11: =E11-H11 -> 4.2306429 | J11: =IF(ISNA(VLOOKUP(C11,'Com Enrolled Accounts'!$A:$B,2,0))=TRUE,0,VLOOKUP(C11,'Com Enrolled Accounts'!$A:$B,2,0)) -> 8.27 | K11: =IF(J11=0,0,J11-I11) -> 4.0393571 | L11: =IF(ISNA(VLOOKUP(C11,'Com Enrolled Accounts'!$A:$C,3,0))=TRUE,0,VLOOKUP(C11,'Com Enrolled Accounts'!$A:$C,3,0)) -> 25.23 | M11: =IF(L11>K11,K11,L11) -> 4.0393571 | N11: =IF(M11<0,0,M11*D11) -> 201.96786
A12: 45985 | B12: 38599 | C12: backyard edible Garden -Shiela Delos Reyes | D12: 50 | E12: =84.82/1.12 -> 75.732143 | F12: =WPPCom -> 86.5015 | G12: =TSCom -> 15 | H12: =F12-G12 -> 71.5015 | I12: =E12-H12 -> 4.2306429 | J12: =IF(ISNA(VLOOKUP(C12,'Com Enrolled Accounts'!$A:$B,2,0))=TRUE,0,VLOOKUP(C12,'Com Enrolled Accounts'!$A:$B,2,0)) -> 8.27 | K12: =IF(J12=0,0,J12-I12) -> 4.0393571 | L12: =IF(ISNA(VLOOKUP(C12,'Com Enrolled Accounts'!$A:$C,3,0))=TRUE,0,VLOOKUP(C12,'Com Enrolled Accounts'!$A:$C,3,0)) -> 8.84 | M12: =IF(L12>K12,K12,L12) -> 4.0393571 | N12: =IF(M12<0,0,M12*D12) -> 201.96786
A13: 45966 | B13: 38051 | C13: CHERISH RESORT | D13: 50 | E13: =73.82/1.12 -> 65.910714 | F13: =WPPCom -> 86.5015 | G13: =TSCom -> 15 | H13: =F13-G13 -> 71.5015 | I13: =E13-H13 -> -5.5907857 | J13: =IF(ISNA(VLOOKUP(C13,'Com Enrolled Accounts'!$A:$B,2,0))=TRUE,0,VLOOKUP(C13,'Com Enrolled Accounts'!$A:$B,2,0)) -> 8.27 | K13: =IF(J13=0,0,J13-I13) -> 13.860786 | L13: =IF(ISNA(VLOOKUP(C13,'Com Enrolled Accounts'!$A:$C,3,0))=TRUE,0,VLOOKUP(C13,'Com Enrolled Accounts'!$A:$C,3,0)) -> 15.03 | M13: =IF(L13>K13,K13,L13) -> 13.860786 | N13: =IF(M13<0,0,M13*D13) -> 693.03929
A14: 45971 | B14: 38199 | C14: CHERISH RESORT | D14: 50 | E14: =73.82/1.12 -> 65.910714 | F14: =WPPCom -> 86.5015 | G14: =TSCom -> 15 | H14: =F14-G14 -> 71.5015 | I14: =E14-H14 -> -5.5907857 | J14: =IF(ISNA(VLOOKUP(C14,'Com Enrolled Accounts'!$A:$B,2,0))=TRUE,0,VLOOKUP(C14,'Com Enrolled Accounts'!$A:$B,2,0)) -> 8.27 | K14: =IF(J14=0,0,J14-I14) -> 13.860786 | L14: =IF(ISNA(VLOOKUP(C14,'Com Enrolled Accounts'!$A:$C,3,0))=TRUE,0,VLOOKUP(C14,'Com Enrolled Accounts'!$A:$C,3,0)) -> 15.03 | M14: =IF(L14>K14,K14,L14) -> 13.860786 | N14: =IF(M14<0,0,M14*D14) -> 693.03929
A15: 45963 | B15: 37962 | C15: CHERISH RESORT | D15: 50 | E15: =73.82/1.12 -> 65.910714 | F15: =WPPCom -> 86.5015 | G15: =TSCom -> 15 | H15: =F15-G15 -> 71.5015 | I15: =E15-H15 -> -5.5907857 | J15: =IF(ISNA(VLOOKUP(C15,'Com Enrolled Accounts'!$A:$B,2,0))=TRUE,0,VLOOKUP(C15,'Com Enrolled Accounts'!$A:$B,2,0)) -> 8.27 | K15: =IF(J15=0,0,J15-I15) -> 13.860786 | L15: =IF(ISNA(VLOOKUP(C15,'Com Enrolled Accounts'!$A:$C,3,0))=TRUE,0,VLOOKUP(C15,'Com Enrolled Accounts'!$A:$C,3,0)) -> 15.03 | M15: =IF(L15>K15,K15,L15) -> 13.860786 | N15: =IF(M15<0,0,M15*D15) -> 693.03929
A16: 45975 | B16: 38330 | C16: CHERISH RESORT | D16: 50 | E16: =73.82/1.12 -> 65.910714 | F16: =WPPCom -> 86.5015 | G16: =TSCom -> 15 | H16: =F16-G16 -> 71.5015 | I16: =E16-H16 -> -5.5907857 | J16: =IF(ISNA(VLOOKUP(C16,'Com Enrolled Accounts'!$A:$B,2,0))=TRUE,0,VLOOKUP(C16,'Com Enrolled Accounts'!$A:$B,2,0)) -> 8.27 | K16: =IF(J16=0,0,J16-I16) -> 13.860786 | L16: =IF(ISNA(VLOOKUP(C16,'Com Enrolled Accounts'!$A:$C,3,0))=TRUE,0,VLOOKUP(C16,'Com Enrolled Accounts'!$A:$C,3,0)) -> 15.03 | M16: =IF(L16>K16,K16,L16) -> 13.860786 | N16: =IF(M16<0,0,M16*D16) -> 693.03929
A17: 45977 | B17: 38378 | C17: CHERISH RESORT | D17: 50 | E17: =73.82/1.12 -> 65.910714 | F17: =WPPCom -> 86.5015 | G17: =TSCom -> 15 | H17: =F17-G17 -> 71.5015 | I17: =E17-H17 -> -5.5907857 | J17: =IF(ISNA(VLOOKUP(C17,'Com Enrolled Accounts'!$A:$B,2,0))=TRUE,0,VLOOKUP(C17,'Com Enrolled Accounts'!$A:$B,2,0)) -> 8.27 | K17: =IF(J17=0,0,J17-I17) -> 13.860786 | L17: =IF(ISNA(VLOOKUP(C17,'Com Enrolled Accounts'!$A:$C,3,0))=TRUE,0,VLOOKUP(C17,'Com Enrolled Accounts'!$A:$C,3,0)) -> 15.03 | M17: =IF(L17>K17,K17,L17) -> 13.860786 | N17: =IF(M17<0,0,M17*D17) -> 693.03929
A18: 45979 | B18: 38448 | C18: CHERISH RESORT | D18: 50 | E18: =73.82/1.12 -> 65.910714 | F18: =WPPCom -> 86.5015 | G18: =TSCom -> 15 | H18: =F18-G18 -> 71.5015 | I18: =E18-H18 -> -5.5907857 | J18: =IF(ISNA(VLOOKUP(C18,'Com Enrolled Accounts'!$A:$B,2,0))=TRUE,0,VLOOKUP(C18,'Com Enrolled Accounts'!$A:$B,2,0)) -> 8.27 | K18: =IF(J18=0,0,J18-I18) -> 13.860786 | L18: =IF(ISNA(VLOOKUP(C18,'Com Enrolled Accounts'!$A:$C,3,0))=TRUE,0,VLOOKUP(C18,'Com Enrolled Accounts'!$A:$C,3,0)) -> 15.03 | M18: =IF(L18>K18,K18,L18) -> 13.860786 | N18: =IF(M18<0,0,M18*D18) -> 693.03929
A19: 45983 | B19: 38572 | C19: CHERISH RESORT | D19: 50 | E19: =73.82/1.12 -> 65.910714 | F19: =WPPCom -> 86.5015 | G19: =TSCom -> 15 | H19: =F19-G19 -> 71.5015 | I19: =E19-H19 -> -5.5907857 | J19: =IF(ISNA(VLOOKUP(C19,'Com Enrolled Accounts'!$A:$B,2,0))=TRUE,0,VLOOKUP(C19,'Com Enrolled Accounts'!$A:$B,2,0)) -> 8.27 | K19: =IF(J19=0,0,J19-I19) -> 13.860786 | L19: =IF(ISNA(VLOOKUP(C19,'Com Enrolled Accounts'!$A:$C,3,0))=TRUE,0,VLOOKUP(C19,'Com Enrolled Accounts'!$A:$C,3,0)) -> 15.03 | M19: =IF(L19>K19,K19,L19) -> 13.860786 | N19: =IF(M19<0,0,M19*D19) -> 693.03929
A20: 45986 | B20: 38649 | C20: CHERISH RESORT | D20: 50 | E20: =73.82/1.12 -> 65.910714 | F20: =WPPCom -> 86.5015 | G20: =TSCom -> 15 | H20: =F20-G20 -> 71.5015 | I20: =E20-H20 -> -5.5907857 | J20: =IF(ISNA(VLOOKUP(C20,'Com Enrolled Accounts'!$A:$B,2,0))=TRUE,0,VLOOKUP(C20,'Com Enrolled Accounts'!$A:$B,2,0)) -> 8.27 | K20: =IF(J20=0,0,J20-I20) -> 13.860786 | L20: =IF(ISNA(VLOOKUP(C20,'Com Enrolled Accounts'!$A:$C,3,0))=TRUE,0,VLOOKUP(C20,'Com Enrolled Accounts'!$A:$C,3,0)) -> 15.03 | M20: =IF(L20>K20,K20,L20) -> 13.860786 | N20: =IF(M20<0,0,M20*D20) -> 693.03929
A21: 45988 | B21: 38709 | C21: CHERISH RESORT | D21: 50 | E21: =73.82/1.12 -> 65.910714 | F21: =WPPCom -> 86.5015 | G21: =TSCom -> 15 | H21: =F21-G21 -> 71.5015 | I21: =E21-H21 -> -5.5907857 | J21: =IF(ISNA(VLOOKUP(C21,'Com Enrolled Accounts'!$A:$B,2,0))=TRUE,0,VLOOKUP(C21,'Com Enrolled Accounts'!$A:$B,2,0)) -> 8.27 | K21: =IF(J21=0,0,J21-I21) -> 13.860786 | L21: =IF(ISNA(VLOOKUP(C21,'Com Enrolled Accounts'!$A:$C,3,0))=TRUE,0,VLOOKUP(C21,'Com Enrolled Accounts'!$A:$C,3,0)) -> 15.03 | M21: =IF(L21>K21,K21,L21) -> 13.860786 | N21: =IF(M21<0,0,M21*D21) -> 693.03929
A22: 45991 | B22: 38800 | C22: CHERISH RESORT | D22: 50 | E22: =73.82/1.12 -> 65.910714 | F22: =WPPCom -> 86.5015 | G22: =TSCom -> 15 | H22: =F22-G22 -> 71.5015 | I22: =E22-H22 -> -5.5907857 | J22: =IF(ISNA(VLOOKUP(C22,'Com Enrolled Accounts'!$A:$B,2,0))=TRUE,0,VLOOKUP(C22,'Com Enrolled Accounts'!$A:$B,2,0)) -> 8.27 | K22: =IF(J22=0,0,J22-I22) -> 13.860786 | L22: =IF(ISNA(VLOOKUP(C22,'Com Enrolled Accounts'!$A:$C,3,0))=TRUE,0,VLOOKUP(C22,'Com Enrolled Accounts'!$A:$C,3,0)) -> 15.03 | M22: =IF(L22>K22,K22,L22) -> 13.860786 | N22: =IF(M22<0,0,M22*D22) -> 693.03929
A23: 45975 | B23: 38333 | C23: DAMPA RESTO BAR | D23: 50 | E23: =84.82/1.12 -> 75.732143 | F23: =WPPCom -> 86.5015 | G23: =TSCom -> 15 | H23: =F23-G23 -> 71.5015 | I23: =E23-H23 -> 4.2306429 | J23: =IF(ISNA(VLOOKUP(C23,'Com Enrolled Accounts'!$A:$B,2,0))=TRUE,0,VLOOKUP(C23,'Com Enrolled Accounts'!$A:$B,2,0)) -> 8.27 | K23: =IF(J23=0,0,J23-I23) -> 4.0393571 | L23: =IF(ISNA(VLOOKUP(C23,'Com Enrolled Accounts'!$A:$C,3,0))=TRUE,0,VLOOKUP(C23,'Com Enrolled Accounts'!$A:$C,3,0)) -> 4.04 | M23: =IF(L23>K23,K23,L23) -> 4.0393571 | N23: =IF(M23<0,0,M23*D23) -> 201.96786
A24: 45989 | B24: 38744 | C24: DAMPA RESTO BAR | D24: 50 | E24: =84.82/1.12 -> 75.732143 | F24: =WPPCom -> 86.5015 | G24: =TSCom -> 15 | H24: =F24-G24 -> 71.5015 | I24: =E24-H24 -> 4.2306429 | J24: =IF(ISNA(VLOOKUP(C24,'Com Enrolled Accounts'!$A:$B,2,0))=TRUE,0,VLOOKUP(C24,'Com Enrolled Accounts'!$A:$B,2,0)) -> 8.27 | K24: =IF(J24=0,0,J24-I24) -> 4.0393571 | L24: =IF(ISNA(VLOOKUP(C24,'Com Enrolled Accounts'!$A:$C,3,0))=TRUE,0,VLOOKUP(C24,'Com Enrolled Accounts'!$A:$C,3,0)) -> 4.04 | M24: =IF(L24>K24,K24,L24) -> 4.0393571 | N24: =IF(M24<0,0,M24*D24) -> 201.96786
A25: 45963 | B25: 37959 | C25: DJJM FOOD HUB | D25: 50 | E25: =74.82/1.12 -> 66.803571 | F25: =WPPCom -> 86.5015 | G25: =TSCom -> 15 | H25: =F25-G25 -> 71.5015 | I25: =E25-H25 -> -4.6979286 | J25: =IF(ISNA(VLOOKUP(C25,'Com Enrolled Accounts'!$A:$B,2,0))=TRUE,0,VLOOKUP(C25,'Com Enrolled Accounts'!$A:$B,2,0)) -> 8.27 | K25: =IF(J25=0,0,J25-I25) -> 12.967929 | L25: =IF(ISNA(VLOOKUP(C25,'Com Enrolled Accounts'!$A:$C,3,0))=TRUE,0,VLOOKUP(C25,'Com Enrolled Accounts'!$A:$C,3,0)) -> 12.97 | M25: =IF(L25>K25,K25,L25) -> 12.967929 | N25: =IF(M25<0,0,M25*D25) -> 648.39643
A26: 45966 | B26: 38041 | C26: DJJM FOOD HUB | D26: 50 | E26: =76.82/1.12 -> 68.589286 | F26: =WPPCom -> 86.5015 | G26: =TSCom -> 15 | H26: =F26-G26 -> 71.5015 | I26: =E26-H26 -> -2.9122143 | J26: =IF(ISNA(VLOOKUP(C26,'Com Enrolled Accounts'!$A:$B,2,0))=TRUE,0,VLOOKUP(C26,'Com Enrolled Accounts'!$A:$B,2,0)) -> 8.27 | K26: =IF(J26=0,0,J26-I26) -> 11.182214 | L26: =IF(ISNA(VLOOKUP(C26,'Com Enrolled Accounts'!$A:$C,3,0))=TRUE,0,VLOOKUP(C26,'Com Enrolled Accounts'!$A:$C,3,0)) -> 12.97 | M26: =IF(L26>K26,K26,L26) -> 11.182214 | N26: =IF(M26<0,0,M26*D26) -> 559.11071
A27: 45967 | B27: 38085 | C27: DJJM FOOD HUB | D27: 50 | E27: =75.82/1.12 -> 67.696429 | F27: =WPPCom -> 86.5015 | G27: =TSCom -> 15 | H27: =F27-G27 -> 71.5015 | I27: =E27-H27 -> -3.8050714 | J27: =IF(ISNA(VLOOKUP(C27,'Com Enrolled Accounts'!$A:$B,2,0))=TRUE,0,VLOOKUP(C27,'Com Enrolled Accounts'!$A:$B,2,0)) -> 8.27 | K27: =IF(J27=0,0,J27-I27) -> 12.075071 | L27: =IF(ISNA(VLOOKUP(C27,'Com Enrolled Accounts'!$A:$C,3,0))=TRUE,0,VLOOKUP(C27,'Com Enrolled Accounts'!$A:$C,3,0)) -> 12.97 | M27: =IF(L27>K27,K27,L27) -> 12.075071 | N27: =IF(M27<0,0,M27*D27) -> 603.75357
A28: 45968 | B28: 38095 | C28: DJJM FOOD HUB | D28: 50 | E28: =74.82/1.12 -> 66.803571 | F28: =WPPCom -> 86.5015 | G28: =TSCom -> 15 | H28: =F28-G28 -> 71.5015 | I28: =E28-H28 -> -4.6979286 | J28: =IF(ISNA(VLOOKUP(C28,'Com Enrolled Accounts'!$A:$B,2,0))=TRUE,0,VLOOKUP(C28,'Com Enrolled Accounts'!$A:$B,2,0)) -> 8.27 | K28: =IF(J28=0,0,J28-I28) -> 12.967929 | L28: =IF(ISNA(VLOOKUP(C28,'Com Enrolled Accounts'!$A:$C,3,0))=TRUE,0,VLOOKUP(C28,'Com Enrolled Accounts'!$A:$C,3,0)) -> 12.97 | M28: =IF(L28>K28,K28,L28) -> 12.967929 | N28: =IF(M28<0,0,M28*D28) -> 648.39643
A29: 45975 | B29: 38323 | C29: DJJM FOOD HUB | D29: 50 | E29: =76.82/1.12 -> 68.589286 | F29: =WPPCom -> 86.5015 | G29: =TSCom -> 15 | H29: =F29-G29 -> 71.5015 | I29: =E29-H29 -> -2.9122143 | J29: =IF(ISNA(VLOOKUP(C29,'Com Enrolled Accounts'!$A:$B,2,0))=TRUE,0,VLOOKUP(C29,'Com Enrolled Accounts'!$A:$B,2,0)) -> 8.27 | K29: =IF(J29=0,0,J29-I29) -> 11.182214 | L29: =IF(ISNA(VLOOKUP(C29,'Com Enrolled Accounts'!$A:$C,3,0))=TRUE,0,VLOOKUP(C29,'Com Enrolled Accounts'!$A:$C,3,0)) -> 12.97 | M29: =IF(L29>K29,K29,L29) -> 11.182214 | N29: =IF(M29<0,0,M29*D29) -> 559.11071
A30: 45979 | B30: 38426 | C30: DJJM FOOD HUB | D30: 50 | E30: =74.82/1.12 -> 66.803571 | F30: =WPPCom -> 86.5015 | G30: =TSCom -> 15 | H30: =F30-G30 -> 71.5015 | I30: =E30-H30 -> -4.6979286 | J30: =IF(ISNA(VLOOKUP(C30,'Com Enrolled Accounts'!$A:$B,2,0))=TRUE,0,VLOOKUP(C30,'Com Enrolled Accounts'!$A:$B,2,0)) -> 8.27 | K30: =IF(J30=0,0,J30-I30) -> 12.967929 | L30: =IF(ISNA(VLOOKUP(C30,'Com Enrolled Accounts'!$A:$C,3,0))=TRUE,0,VLOOKUP(C30,'Com Enrolled Accounts'!$A:$C,3,0)) -> 12.97 | M30: =IF(L30>K30,K30,L30) -> 12.967929 | N30: =IF(M30<0,0,M30*D30) -> 648.39643
A31: 45980 | B31: 38458 | C31: DJJM FOOD HUB | D31: 50 | E31: =76.82/1.12 -> 68.589286 | F31: =WPPCom -> 86.5015 | G31: =TSCom -> 15 | H31: =F31-G31 -> 71.5015 | I31: =E31-H31 -> -2.9122143 | J31: =IF(ISNA(VLOOKUP(C31,'Com Enrolled Accounts'!$A:$B,2,0))=TRUE,0,VLOOKUP(C31,'Com Enrolled Accounts'!$A:$B,2,0)) -> 8.27 | K31: =IF(J31=0,0,J31-I31) -> 11.182214 | L31: =IF(ISNA(VLOOKUP(C31,'Com Enrolled Accounts'!$A:$C,3,0))=TRUE,0,VLOOKUP(C31,'Com Enrolled Accounts'!$A:$C,3,0)) -> 12.97 | M31: =IF(L31>K31,K31,L31) -> 11.182214 | N31: =IF(M31<0,0,M31*D31) -> 559.11071
A32: 45985 | B32: 38600 | C32: DJJM FOOD HUB | D32: 50 | E32: =76.82/1.12 -> 68.589286 | F32: =WPPCom -> 86.5015 | G32: =TSCom -> 15 | H32: =F32-G32 -> 71.5015 | I32: =E32-H32 -> -2.9122143 | J32: =IF(ISNA(VLOOKUP(C32,'Com Enrolled Accounts'!$A:$B,2,0))=TRUE,0,VLOOKUP(C32,'Com Enrolled Accounts'!$A:$B,2,0)) -> 8.27 | K32: =IF(J32=0,0,J32-I32) -> 11.182214 | L32: =IF(ISNA(VLOOKUP(C32,'Com Enrolled Accounts'!$A:$C,3,0))=TRUE,0,VLOOKUP(C32,'Com Enrolled Accounts'!$A:$C,3,0)) -> 12.97 | M32: =IF(L32>K32,K32,L32) -> 11.182214 | N32: =IF(M32<0,0,M32*D32) -> 559.11071
A33: 45986 | B33: 38629 | C33: DJJM FOOD HUB | D33: 50 | E33: =74.82/1.12 -> 66.803571 | F33: =WPPCom -> 86.5015 | G33: =TSCom -> 15 | H33: =F33-G33 -> 71.5015 | I33: =E33-H33 -> -4.6979286 | J33: =IF(ISNA(VLOOKUP(C33,'Com Enrolled Accounts'!$A:$B,2,0))=TRUE,0,VLOOKUP(C33,'Com Enrolled Accounts'!$A:$B,2,0)) -> 8.27 | K33: =IF(J33=0,0,J33-I33) -> 12.967929 | L33: =IF(ISNA(VLOOKUP(C33,'Com Enrolled Accounts'!$A:$C,3,0))=TRUE,0,VLOOKUP(C33,'Com Enrolled Accounts'!$A:$C,3,0)) -> 12.97 | M33: =IF(L33>K33,K33,L33) -> 12.967929 | N33: =IF(M33<0,0,M33*D33) -> 648.39643
A34: 45990 | B34: 38758 | C34: DJJM FOOD HUB | D34: 50 | E34: =76.82/1.12 -> 68.589286 | F34: =WPPCom -> 86.5015 | G34: =TSCom -> 15 | H34: =F34-G34 -> 71.5015 | I34: =E34-H34 -> -2.9122143 | J34: =IF(ISNA(VLOOKUP(C34,'Com Enrolled Accounts'!$A:$B,2,0))=TRUE,0,VLOOKUP(C34,'Com Enrolled Accounts'!$A:$B,2,0)) -> 8.27 | K34: =IF(J34=0,0,J34-I34) -> 11.182214 | L34: =IF(ISNA(VLOOKUP(C34,'Com Enrolled Accounts'!$A:$C,3,0))=TRUE,0,VLOOKUP(C34,'Com Enrolled Accounts'!$A:$C,3,0)) -> 12.97 | M34: =IF(L34>K34,K34,L34) -> 11.182214 | N34: =IF(M34<0,0,M34*D34) -> 559.11071
A35: 45990 | B35: 38764 | C35: DJJM FOOD HUB | D35: 50 | E35: =74.82/1.12 -> 66.803571 | F35: =WPPCom -> 86.5015 | G35: =TSCom -> 15 | H35: =F35-G35 -> 71.5015 | I35: =E35-H35 -> -4.6979286 | J35: =IF(ISNA(VLOOKUP(C35,'Com Enrolled Accounts'!$A:$B,2,0))=TRUE,0,VLOOKUP(C35,'Com Enrolled Accounts'!$A:$B,2,0)) -> 8.27 | K35: =IF(J35=0,0,J35-I35) -> 12.967929 | L35: =IF(ISNA(VLOOKUP(C35,'Com Enrolled Accounts'!$A:$C,3,0))=TRUE,0,VLOOKUP(C35,'Com Enrolled Accounts'!$A:$C,3,0)) -> 12.97 | M35: =IF(L35>K35,K35,L35) -> 12.967929 | N35: =IF(M35<0,0,M35*D35) -> 648.39643
A36: 45987 | B36: 38662 | C36: EZ CAFÉ | D36: 50 | E36: =76.82/1.12 -> 68.589286 | F36: =WPPCom -> 86.5015 | G36: =TSCom -> 15 | H36: =F36-G36 -> 71.5015 | I36: =E36-H36 -> -2.9122143 | J36: =IF(ISNA(VLOOKUP(C36,'Com Enrolled Accounts'!$A:$B,2,0))=TRUE,0,VLOOKUP(C36,'Com Enrolled Accounts'!$A:$B,2,0)) -> 8.27 | K36: =IF(J36=0,0,J36-I36) -> 11.182214 | L36: =IF(ISNA(VLOOKUP(C36,'Com Enrolled Accounts'!$A:$C,3,0))=TRUE,0,VLOOKUP(C36,'Com Enrolled Accounts'!$A:$C,3,0)) -> 10.31 | M36: =IF(L36>K36,K36,L36) -> 10.31 | N36: =IF(M36<0,0,M36*D36) -> 515.5
A37: 45968 | B37: 38092 | C37: FRANCE LAUNDRY | D37: 50 | E37: =76.82/1.12 -> 68.589286 | F37: =WPPCom -> 86.5015 | G37: =TSCom -> 15 | H37: =F37-G37 -> 71.5015 | I37: =E37-H37 -> -2.9122143 | J37: =IF(ISNA(VLOOKUP(C37,'Com Enrolled Accounts'!$A:$B,2,0))=TRUE,0,VLOOKUP(C37,'Com Enrolled Accounts'!$A:$B,2,0)) -> 8.27 | K37: =IF(J37=0,0,J37-I37) -> 11.182214 | L37: =IF(ISNA(VLOOKUP(C37,'Com Enrolled Accounts'!$A:$C,3,0))=TRUE,0,VLOOKUP(C37,'Com Enrolled Accounts'!$A:$C,3,0)) -> 11.21 | M37: =IF(L37>K37,K37,L37) -> 11.182214 | N37: =IF(M37<0,0,M37*D37) -> 559.11071
A38: 45982 | B38: 38536 | C38: FRANCE LAUNDRY | D38: 50 | E38: =76.82/1.12 -> 68.589286 | F38: =WPPCom -> 86.5015 | G38: =TSCom -> 15 | H38: =F38-G38 -> 71.5015 | I38: =E38-H38 -> -2.9122143 | J38: =IF(ISNA(VLOOKUP(C38,'Com Enrolled Accounts'!$A:$B,2,0))=TRUE,0,VLOOKUP(C38,'Com Enrolled Accounts'!$A:$B,2,0)) -> 8.27 | K38: =IF(J38=0,0,J38-I38) -> 11.182214 | L38: =IF(ISNA(VLOOKUP(C38,'Com Enrolled Accounts'!$A:$C,3,0))=TRUE,0,VLOOKUP(C38,'Com Enrolled Accounts'!$A:$C,3,0)) -> 11.21 | M38: =IF(L38>K38,K38,L38) -> 11.182214 | N38: =IF(M38<0,0,M38*D38) -> 559.11071
F39: =WPPCom -> 86.5015 | G39: =TSCom -> 15 | H39: =F39-G39 -> 71.5015 | I39: =E39-H39 -> -71.5015 | J39: =IF(ISNA(VLOOKUP(C39,'Com Enrolled Accounts'!$A:$B,2,0))=TRUE,0,VLOOKUP(C39,'Com Enrolled Accounts'!$A:$B,2,0)) -> 0 | K39: =IF(J39=0,0,J39-I39) -> 0 | L39: =IF(ISNA(VLOOKUP(C39,'Com Enrolled Accounts'!$A:$C,3,0))=TRUE,0,VLOOKUP(C39,'Com Enrolled Accounts'!$A:$C,3,0)) -> 0 | M39: =IF(L39>K39,K39,L39) -> 0 | N39: =IF(M39<0,0,M39*D39) -> 0
A40: 45965 | B40: 38043 | C40: JUAN HOUR LAUNDRY | D40: 50 | E40: =72.82/1.12 -> 65.017857 | F40: =WPPCom -> 86.5015 | G40: =TSCom -> 15 | H40: =F40-G40 -> 71.5015 | I40: =E40-H40 -> -6.4836429 | J40: =IF(ISNA(VLOOKUP(C40,'Com Enrolled Accounts'!$A:$B,2,0))=TRUE,0,VLOOKUP(C40,'Com Enrolled Accounts'!$A:$B,2,0)) -> 8.27 | K40: =IF(J40=0,0,J40-I40) -> 14.753643 | L40: =IF(ISNA(VLOOKUP(C40,'Com Enrolled Accounts'!$A:$C,3,0))=TRUE,0,VLOOKUP(C40,'Com Enrolled Accounts'!$A:$C,3,0)) -> 15.03 | M40: =IF(L40>K40,K40,L40) -> 14.753643 | N40: =IF(M40<0,0,M40*D40) -> 737.68214
A41: 45969 | B41: 38151 | C41: JUAN HOUR LAUNDRY | D41: 50 | E41: =72.82/1.12 -> 65.017857 | F41: =WPPCom -> 86.5015 | G41: =TSCom -> 15 | H41: =F41-G41 -> 71.5015 | I41: =E41-H41 -> -6.4836429 | J41: =IF(ISNA(VLOOKUP(C41,'Com Enrolled Accounts'!$A:$B,2,0))=TRUE,0,VLOOKUP(C41,'Com Enrolled Accounts'!$A:$B,2,0)) -> 8.27 | K41: =IF(J41=0,0,J41-I41) -> 14.753643 | L41: =IF(ISNA(VLOOKUP(C41,'Com Enrolled Accounts'!$A:$C,3,0))=TRUE,0,VLOOKUP(C41,'Com Enrolled Accounts'!$A:$C,3,0)) -> 15.03 | M41: =IF(L41>K41,K41,L41) -> 14.753643 | N41: =IF(M41<0,0,M41*D41) -> 737.68214
...

Sheet Domestic GMS
A1: Dealer: | C1: =DealerName -> ALJALANI SALES MARKETING | E1: BACK TO TOP SHEET
A2: Plant: | C2: =Plant -> CAMSUR/Daraga
A3: Month of Claim | C3: =DateStart -> 45962
A4: Segment: | C4: DOMESTIC
A5: Commercial GMS Amount | C5: =SUM($N$9:$N$5008) -> 10496.507 | E5: =D5-C5 -> -10496.507
A6: GMS Volume in kg | C6: =SUM($D$9:$D$5008) -> 5522 | E6: =D6-C6 -> -5522
A8: Date (INPUT) | B8: Invoice Number (INPUT) | C8: Account (INPUT AS DROPDOWN) | D8: Volume in kg (INPUT) | E8: VATEX End Customer Price PER KG (INPUT) | F8: WPP (P/kg) | G8: Tactical DOI (P/kg) | H8: Net WPP (P/kg) | I8: Dealer Margin (P/kg) | J8: GMS Rate (P/kg) | K8: Resulting Price Support (P/kg) | L8: Approved Price Support (P/kg) | M8: Should be Price Support Rate (P/kg) | N8: GMS Amount (Php)
A9: 45668 | B9: 37931 | C9: ALFREDOS CARINDERIA VENUS PASION | D9: 11 | E9: =995/D9/1.12 -> 80.762987 | F9: =WPPDom -> 87.0515 | G9: =TSDom -> 20.72 | H9: =F9-G9 -> 66.3315 | I9: =E9-H9 -> 14.431487 | J9: =IF(ISNA(VLOOKUP(C9,'Dom Enrolled Accounts'!$A:$B,2,0))=TRUE,0,VLOOKUP(C9,'Dom Enrolled Accounts'!$A:$B,2,0)) -> 15.6 | K9: =IF(J9=0,0,J9-I9) -> 1.168513 | L9: =IF(ISNA(VLOOKUP(C9,'Dom Enrolled Accounts'!$A:$C,3,0))=TRUE,0,VLOOKUP(C9,'Dom Enrolled Accounts'!$A:$C,3,0)) -> 2.05 | M9: =IF(L9>K9,K9,L9) -> 1.168513 | N9: =IF(M9<0,0,M9*D9) -> 12.853643
A10: 45699 | B10: 37966 | C10: ALFREDOS CARINDERIA VENUS PASION | D10: 11 | E10: =995/D10/1.12 -> 80.762987 | F10: =WPPDom -> 87.0515 | G10: =TSDom -> 20.72 | H10: =F10-G10 -> 66.3315 | I10: =E10-H10 -> 14.431487 | J10: =IF(ISNA(VLOOKUP(C10,'Dom Enrolled Accounts'!$A:$B,2,0))=TRUE,0,VLOOKUP(C10,'Dom Enrolled Accounts'!$A:$B,2,0)) -> 15.6 | K10: =IF(J10=0,0,J10-I10) -> 1.168513 | L10: =IF(ISNA(VLOOKUP(C10,'Dom Enrolled Accounts'!$A:$C,3,0))=TRUE,0,VLOOKUP(C10,'Dom Enrolled Accounts'!$A:$C,3,0)) -> 2.05 | M10: =IF(L10>K10,K10,L10) -> 1.168513 | N10: =IF(M10<0,0,M10*D10) -> 12.853643
A11: 45788 | B11: 38030 | C11: ALFREDOS CARINDERIA VENUS PASION | D11: 11 | E11: =995/D11/1.12 -> 80.762987 | F11: =WPPDom -> 87.0515 | G11: =TSDom -> 20.72 | H11: =F11-G11 -> 66.3315 | I11: =E11-H11 -> 14.431487 | J11: =IF(ISNA(VLOOKUP(C11,'Dom Enrolled Accounts'!$A:$B,2,0))=TRUE,0,VLOOKUP(C11,'Dom Enrolled Accounts'!$A:$B,2,0)) -> 15.6 | K11: =IF(J11=0,0,J11-I11) -> 1.168513 | L11: =IF(ISNA(VLOOKUP(C11,'Dom Enrolled Accounts'!$A:$C,3,0))=TRUE,0,VLOOKUP(C11,'Dom Enrolled Accounts'!$A:$C,3,0)) -> 2.05 | M11: =IF(L11>K11,K11,L11) -> 1.168513 | N11: =IF(M11<0,0,M11*D11) -> 12.853643
A12: 45941 | B12: 38174 | C12: ALFREDOS CARINDERIA VENUS PASION | D12: 11 | E12: =995/D12/1.12 -> 80.762987 | F12: =WPPDom -> 87.0515 | G12: =TSDom -> 20.72 | H12: =F12-G12 -> 66.3315 | I12: =E12-H12 -> 14.431487 | J12: =IF(ISNA(VLOOKUP(C12,'Dom Enrolled Accounts'!$A:$B,2,0))=TRUE,0,VLOOKUP(C12,'Dom Enrolled Accounts'!$A:$B,2,0)) -> 15.6 | K12: =IF(J12=0,0,J12-I12) -> 1.168513 | L12: =IF(ISNA(VLOOKUP(C12,'Dom Enrolled Accounts'!$A:$C,3,0))=TRUE,0,VLOOKUP(C12,'Dom Enrolled Accounts'!$A:$C,3,0)) -> 2.05 | M12: =IF(L12>K12,K12,L12) -> 1.168513 | N12: =IF(M12<0,0,M12*D12) -> 12.853643
A13: 45941 | B13: 38193 | C13: ALFREDOS CARINDERIA VENUS PASION | D13: 11 | E13: =995/D13/1.12 -> 80.762987 | F13: =WPPDom -> 87.0515 | G13: =TSDom -> 20.72 | H13: =F13-G13 -> 66.3315 | I13: =E13-H13 -> 14.431487 | J13: =IF(ISNA(VLOOKUP(C13,'Dom Enrolled Accounts'!$A:$B,2,0))=TRUE,0,VLOOKUP(C13,'Dom Enrolled Accounts'!$A:$B,2,0)) -> 15.6 | K13: =IF(J13=0,0,J13-I13) -> 1.168513 | L13: =IF(ISNA(VLOOKUP(C13,'Dom Enrolled Accounts'!$A:$C,3,0))=TRUE,0,VLOOKUP(C13,'Dom Enrolled Accounts'!$A:$C,3,0)) -> 2.05 | M13: =IF(L13>K13,K13,L13) -> 1.168513 | N13: =IF(M13<0,0,M13*D13) -> 12.853643
A14: 45972 | B14: 38229 | C14: ALFREDOS CARINDERIA VENUS PASION | D14: 11 | E14: =995/D14/1.12 -> 80.762987 | F14: =WPPDom -> 87.0515 | G14: =TSDom -> 20.72 | H14: =F14-G14 -> 66.3315 | I14: =E14-H14 -> 14.431487 | J14: =IF(ISNA(VLOOKUP(C14,'Dom Enrolled Accounts'!$A:$B,2,0))=TRUE,0,VLOOKUP(C14,'Dom Enrolled Accounts'!$A:$B,2,0)) -> 15.6 | K14: =IF(J14=0,0,J14-I14) -> 1.168513 | L14: =IF(ISNA(VLOOKUP(C14,'Dom Enrolled Accounts'!$A:$C,3,0))=TRUE,0,VLOOKUP(C14,'Dom Enrolled Accounts'!$A:$C,3,0)) -> 2.05 | M14: =IF(L14>K14,K14,L14) -> 1.168513 | N14: =IF(M14<0,0,M14*D14) -> 12.853643
A15: 45972 | B15: 38241 | C15: ALFREDOS CARINDERIA VENUS PASION | D15: 11 | E15: =995/D15/1.12 -> 80.762987 | F15: =WPPDom -> 87.0515 | G15: =TSDom -> 20.72 | H15: =F15-G15 -> 66.3315 | I15: =E15-H15 -> 14.431487 | J15: =IF(ISNA(VLOOKUP(C15,'Dom Enrolled Accounts'!$A:$B,2,0))=TRUE,0,VLOOKUP(C15,'Dom Enrolled Accounts'!$A:$B,2,0)) -> 15.6 | K15: =IF(J15=0,0,J15-I15) -> 1.168513 | L15: =IF(ISNA(VLOOKUP(C15,'Dom Enrolled Accounts'!$A:$C,3,0))=TRUE,0,VLOOKUP(C15,'Dom Enrolled Accounts'!$A:$C,3,0)) -> 2.05 | M15: =IF(L15>K15,K15,L15) -> 1.168513 | N15: =IF(M15<0,0,M15*D15) -> 12.853643
A16: 11 16 2025 | B16: 38356 | C16: ALFREDOS CARINDERIA VENUS PASION | D16: 11 | E16: =995/D16/1.12 -> 80.762987 | F16: =WPPDom -> 87.0515 | G16: =TSDom -> 20.72 | H16: =F16-G16 -> 66.3315 | I16: =E16-H16 -> 14.431487 | J16: =IF(ISNA(VLOOKUP(C16,'Dom Enrolled Accounts'!$A:$B,2,0))=TRUE,0,VLOOKUP(C16,'Dom Enrolled Accounts'!$A:$B,2,0)) -> 15.6 | K16: =IF(J16=0,0,J16-I16) -> 1.168513 | L16: =IF(ISNA(VLOOKUP(C16,'Dom Enrolled Accounts'!$A:$C,3,0))=TRUE,0,VLOOKUP(C16,'Dom Enrolled Accounts'!$A:$C,3,0)) -> 2.05 | M16: =IF(L16>K16,K16,L16) -> 1.168513 | N16: =IF(M16<0,0,M16*D16) -> 12.853643
A17: 11/16/2025 | B17: 38373 | C17: ALFREDOS CARINDERIA VENUS PASION | D17: 11 | E17: =995/D17/1.12 -> 80.762987 | F17: =WPPDom -> 87.0515 | G17: =TSDom -> 20.72 | H17: =F17-G17 -> 66.3315 | I17: =E17-H17 -> 14.431487 | J17: =IF(ISNA(VLOOKUP(C17,'Dom Enrolled Accounts'!$A:$B,2,0))=TRUE,0,VLOOKUP(C17,'Dom Enrolled Accounts'!$A:$B,2,0)) -> 15.6 | K17: =IF(J17=0,0,J17-I17) -> 1.168513 | L17: =IF(ISNA(VLOOKUP(C17,'Dom Enrolled Accounts'!$A:$C,3,0))=TRUE,0,VLOOKUP(C17,'Dom Enrolled Accounts'!$A:$C,3,0)) -> 2.05 | M17: =IF(L17>K17,K17,L17) -> 1.168513 | N17: =IF(M17<0,0,M17*D17) -> 12.853643
A18: 11/21/2025 | B18: 38503 | C18: ALFREDOS CARINDERIA VENUS PASION | D18: 11 | E18: =995/D18/1.12 -> 80.762987 | F18: =WPPDom -> 87.0515 | G18: =TSDom -> 20.72 | H18: =F18-G18 -> 66.3315 | I18: =E18-H18 -> 14.431487 | J18: =IF(ISNA(VLOOKUP(C18,'Dom Enrolled Accounts'!$A:$B,2,0))=TRUE,0,VLOOKUP(C18,'Dom Enrolled Accounts'!$A:$B,2,0)) -> 15.6 | K18: =IF(J18=0,0,J18-I18) -> 1.168513 | L18: =IF(ISNA(VLOOKUP(C18,'Dom Enrolled Accounts'!$A:$C,3,0))=TRUE,0,VLOOKUP(C18,'Dom Enrolled Accounts'!$A:$C,3,0)) -> 2.05 | M18: =IF(L18>K18,K18,L18) -> 1.168513 | N18: =IF(M18<0,0,M18*D18) -> 12.853643
A19: 11/21/2025 | B19: 38506 | C19: ALFREDOS CARINDERIA VENUS PASION | D19: 11 | E19: =995/D19/1.12 -> 80.762987 | F19: =WPPDom -> 87.0515 | G19: =TSDom -> 20.72 | H19: =F19-G19 -> 66.3315 | I19: =E19-H19 -> 14.431487 | J19: =IF(ISNA(VLOOKUP(C19,'Dom Enrolled Accounts'!$A:$B,2,0))=TRUE,0,VLOOKUP(C19,'Dom Enrolled Accounts'!$A:$B,2,0)) -> 15.6 | K19: =IF(J19=0,0,J19-I19) -> 1.168513 | L19: =IF(ISNA(VLOOKUP(C19,'Dom Enrolled Accounts'!$A:$C,3,0))=TRUE,0,VLOOKUP(C19,'Dom Enrolled Accounts'!$A:$C,3,0)) -> 2.05 | M19: =IF(L19>K19,K19,L19) -> 1.168513 | N19: =IF(M19<0,0,M19*D19) -> 12.853643
A20: 11/22/2025 | B20: 38558 | C20: ALFREDOS CARINDERIA VENUS PASION | D20: 11 | E20: =995/D20/1.12 -> 80.762987 | F20: =WPPDom -> 87.0515 | G20: =TSDom -> 20.72 | H20: =F20-G20 -> 66.3315 | I20: =E20-H20 -> 14.431487 | J20: =IF(ISNA(VLOOKUP(C20,'Dom Enrolled Accounts'!$A:$B,2,0))=TRUE,0,VLOOKUP(C20,'Dom Enrolled Accounts'!$A:$B,2,0)) -> 15.6 | K20: =IF(J20=0,0,J20-I20) -> 1.168513 | L20: =IF(ISNA(VLOOKUP(C20,'Dom Enrolled Accounts'!$A:$C,3,0))=TRUE,0,VLOOKUP(C20,'Dom Enrolled Accounts'!$A:$C,3,0)) -> 2.05 | M20: =IF(L20>K20,K20,L20) -> 1.168513 | N20: =IF(M20<0,0,M20*D20) -> 12.853643
A21: 11/26/2025 | B21: 38653 | C21: ALFREDOS CARINDERIA VENUS PASION | D21: 11 | E21: =995/D21/1.12 -> 80.762987 | F21: =WPPDom -> 87.0515 | G21: =TSDom -> 20.72 | H21: =F21-G21 -> 66.3315 | I21: =E21-H21 -> 14.431487 | J21: =IF(ISNA(VLOOKUP(C21,'Dom Enrolled Accounts'!$A:$B,2,0))=TRUE,0,VLOOKUP(C21,'Dom Enrolled Accounts'!$A:$B,2,0)) -> 15.6 | K21: =IF(J21=0,0,J21-I21) -> 1.168513 | L21: =IF(ISNA(VLOOKUP(C21,'Dom Enrolled Accounts'!$A:$C,3,0))=TRUE,0,VLOOKUP(C21,'Dom Enrolled Accounts'!$A:$C,3,0)) -> 2.05 | M21: =IF(L21>K21,K21,L21) -> 1.168513 | N21: =IF(M21<0,0,M21*D21) -> 12.853643
A22: 11/28/2025 | B22: 38717 | C22: ALFREDOS CARINDERIA VENUS PASION | D22: 11 | E22: =995/D22/1.12 -> 80.762987 | F22: =WPPDom -> 87.0515 | G22: =TSDom -> 20.72 | H22: =F22-G22 -> 66.3315 | I22: =E22-H22 -> 14.431487 | J22: =IF(ISNA(VLOOKUP(C22,'Dom Enrolled Accounts'!$A:$B,2,0))=TRUE,0,VLOOKUP(C22,'Dom Enrolled Accounts'!$A:$B,2,0)) -> 15.6 | K22: =IF(J22=0,0,J22-I22) -> 1.168513 | L22: =IF(ISNA(VLOOKUP(C22,'Dom Enrolled Accounts'!$A:$C,3,0))=TRUE,0,VLOOKUP(C22,'Dom Enrolled Accounts'!$A:$C,3,0)) -> 2.05 | M22: =IF(L22>K22,K22,L22) -> 1.168513 | N22: =IF(M22<0,0,M22*D22) -> 12.853643
A23: 11/30/2025 | B23: 38791 | C23: ALFREDOS CARINDERIA VENUS PASION | D23: 11 | E23: =995/D23/1.12 -> 80.762987 | F23: =WPPDom -> 87.0515 | G23: =TSDom -> 20.72 | H23: =F23-G23 -> 66.3315 | I23: =E23-H23 -> 14.431487 | J23: =IF(ISNA(VLOOKUP(C23,'Dom Enrolled Accounts'!$A:$B,2,0))=TRUE,0,VLOOKUP(C23,'Dom Enrolled Accounts'!$A:$B,2,0)) -> 15.6 | K23: =IF(J23=0,0,J23-I23) -> 1.168513 | L23: =IF(ISNA(VLOOKUP(C23,'Dom Enrolled Accounts'!$A:$C,3,0))=TRUE,0,VLOOKUP(C23,'Dom Enrolled Accounts'!$A:$C,3,0)) -> 2.05 | M23: =IF(L23>K23,K23,L23) -> 1.168513 | N23: =IF(M23<0,0,M23*D23) -> 12.853643
A24: 45819 | B24: 38064 | C24: CAPELLAN SONNY COMEDOR EATERY | D24: 11 | E24: =995/D24/1.12 -> 80.762987 | F24: =WPPDom -> 87.0515 | G24: =TSDom -> 20.72 | H24: =F24-G24 -> 66.3315 | I24: =E24-H24 -> 14.431487 | J24: =IF(ISNA(VLOOKUP(C24,'Dom Enrolled Accounts'!$A:$B,2,0))=TRUE,0,VLOOKUP(C24,'Dom Enrolled Accounts'!$A:$B,2,0)) -> 15.6 | K24: =IF(J24=0,0,J24-I24) -> 1.168513 | L24: =IF(ISNA(VLOOKUP(C24,'Dom Enrolled Accounts'!$A:$C,3,0))=TRUE,0,VLOOKUP(C24,'Dom Enrolled Accounts'!$A:$C,3,0)) -> 2.05 | M24: =IF(L24>K24,K24,L24) -> 1.168513 | N24: =IF(M24<0,0,M24*D24) -> 12.853643
A25: 45941 | B25: 38173 | C25: CAPELLAN SONNY COMEDOR EATERY | D25: 22 | E25: =1990/D25/1.12 -> 80.762987 | F25: =WPPDom -> 87.0515 | G25: =TSDom -> 20.72 | H25: =F25-G25 -> 66.3315 | I25: =E25-H25 -> 14.431487 | J25: =IF(ISNA(VLOOKUP(C25,'Dom Enrolled Accounts'!$A:$B,2,0))=TRUE,0,VLOOKUP(C25,'Dom Enrolled Accounts'!$A:$B,2,0)) -> 15.6 | K25: =IF(J25=0,0,J25-I25) -> 1.168513 | L25: =IF(ISNA(VLOOKUP(C25,'Dom Enrolled Accounts'!$A:$C,3,0))=TRUE,0,VLOOKUP(C25,'Dom Enrolled Accounts'!$A:$C,3,0)) -> 2.05 | M25: =IF(L25>K25,K25,L25) -> 1.168513 | N25: =IF(M25<0,0,M25*D25) -> 25.707286
A26: 11/25/2025 | B26: 38516 | C26: CAPELLAN SONNY COMEDOR EATERY | D26: 11 | E26: =90.4545454545455/1.12 -> 80.762987 | F26: =WPPDom -> 87.0515 | G26: =TSDom -> 20.72 | H26: =F26-G26 -> 66.3315 | I26: =E26-H26 -> 14.431487 | J26: =IF(ISNA(VLOOKUP(C26,'Dom Enrolled Accounts'!$A:$B,2,0))=TRUE,0,VLOOKUP(C26,'Dom Enrolled Accounts'!$A:$B,2,0)) -> 15.6 | K26: =IF(J26=0,0,J26-I26) -> 1.168513 | L26: =IF(ISNA(VLOOKUP(C26,'Dom Enrolled Accounts'!$A:$C,3,0))=TRUE,0,VLOOKUP(C26,'Dom Enrolled Accounts'!$A:$C,3,0)) -> 2.05 | M26: =IF(L26>K26,K26,L26) -> 1.168513 | N26: =IF(M26<0,0,M26*D26) -> 12.853643
A27: 11/28/2025 | B27: 38715 | C27: CAPELLAN SONNY COMEDOR EATERY | D27: 11 | E27: =90.4545454545455/1.12 -> 80.762987 | F27: =WPPDom -> 87.0515 | G27: =TSDom -> 20.72 | H27: =F27-G27 -> 66.3315 | I27: =E27-H27 -> 14.431487 | J27: =IF(ISNA(VLOOKUP(C27,'Dom Enrolled Accounts'!$A:$B,2,0))=TRUE,0,VLOOKUP(C27,'Dom Enrolled Accounts'!$A:$B,2,0)) -> 15.6 | K27: =IF(J27=0,0,J27-I27) -> 1.168513 | L27: =IF(ISNA(VLOOKUP(C27,'Dom Enrolled Accounts'!$A:$C,3,0))=TRUE,0,VLOOKUP(C27,'Dom Enrolled Accounts'!$A:$C,3,0)) -> 2.05 | M27: =IF(L27>K27,K27,L27) -> 1.168513 | N27: =IF(M27<0,0,M27*D27) -> 12.853643
A28: 45880 | B28: 38147 | C28: DELA PENA BAKERY ANALYN OSTED | D28: 11 | E28: =90.4545454545455/1.12 -> 80.762987 | F28: =WPPDom -> 87.0515 | G28: =TSDom -> 20.72 | H28: =F28-G28 -> 66.3315 | I28: =E28-H28 -> 14.431487 | J28: =IF(ISNA(VLOOKUP(C28,'Dom Enrolled Accounts'!$A:$B,2,0))=TRUE,0,VLOOKUP(C28,'Dom Enrolled Accounts'!$A:$B,2,0)) -> 15.6 | K28: =IF(J28=0,0,J28-I28) -> 1.168513 | L28: =IF(ISNA(VLOOKUP(C28,'Dom Enrolled Accounts'!$A:$C,3,0))=TRUE,0,VLOOKUP(C28,'Dom Enrolled Accounts'!$A:$C,3,0)) -> 2.05 | M28: =IF(L28>K28,K28,L28) -> 1.168513 | N28: =IF(M28<0,0,M28*D28) -> 12.853643
A29: 11/25/2025 | B29: 38642 | C29: DELA PENA BAKERY ANALYN OSTED | D29: 11 | E29: =90.4545454545455/1.12 -> 80.762987 | F29: =WPPDom -> 87.0515 | G29: =TSDom -> 20.72 | H29: =F29-G29 -> 66.3315 | I29: =E29-H29 -> 14.431487 | J29: =IF(ISNA(VLOOKUP(C29,'Dom Enrolled Accounts'!$A:$B,2,0))=TRUE,0,VLOOKUP(C29,'Dom Enrolled Accounts'!$A:$B,2,0)) -> 15.6 | K29: =IF(J29=0,0,J29-I29) -> 1.168513 | L29: =IF(ISNA(VLOOKUP(C29,'Dom Enrolled Accounts'!$A:$C,3,0))=TRUE,0,VLOOKUP(C29,'Dom Enrolled Accounts'!$A:$C,3,0)) -> 2.05 | M29: =IF(L29>K29,K29,L29) -> 1.168513 | N29: =IF(M29<0,0,M29*D29) -> 12.853643
A30: 11/26/2025 | B30: 38657 | C30: DELA PENA BAKERY ANALYN OSTED | D30: 11 | E30: =90.4545454545455/1.12 -> 80.762987 | F30: =WPPDom -> 87.0515 | G30: =TSDom -> 20.72 | H30: =F30-G30 -> 66.3315 | I30: =E30-H30 -> 14.431487 | J30: =IF(ISNA(VLOOKUP(C30,'Dom Enrolled Accounts'!$A:$B,2,0))=TRUE,0,VLOOKUP(C30,'Dom Enrolled Accounts'!$A:$B,2,0)) -> 15.6 | K30: =IF(J30=0,0,J30-I30) -> 1.168513 | L30: =IF(ISNA(VLOOKUP(C30,'Dom Enrolled Accounts'!$A:$C,3,0))=TRUE,0,VLOOKUP(C30,'Dom Enrolled Accounts'!$A:$C,3,0)) -> 2.05 | M30: =IF(L30>K30,K30,L30) -> 1.168513 | N30: =IF(M30<0,0,M30*D30) -> 12.853643
A31: 45668 | B31: 37927 | C31: EMR FOOD CART JENNY /FREDIE PANES | D31: 11 | E31: =90.4545454545455/1.12 -> 80.762987 | F31: =WPPDom -> 87.0515 | G31: =TSDom -> 20.72 | H31: =F31-G31 -> 66.3315 | I31: =E31-H31 -> 14.431487 | J31: =IF(ISNA(VLOOKUP(C31,'Dom Enrolled Accounts'!$A:$B,2,0))=TRUE,0,VLOOKUP(C31,'Dom Enrolled Accounts'!$A:$B,2,0)) -> 15.6 | K31: =IF(J31=0,0,J31-I31) -> 1.168513 | L31: =IF(ISNA(VLOOKUP(C31,'Dom Enrolled Accounts'!$A:$C,3,0))=TRUE,0,VLOOKUP(C31,'Dom Enrolled Accounts'!$A:$C,3,0)) -> 2.05 | M31: =IF(L31>K31,K31,L31) -> 1.168513 | N31: =IF(M31<0,0,M31*D31) -> 12.853643
A32: 45849 | B32: 38103 | C32: EMR FOOD CART JENNY /FREDIE PANES | D32: 11 | E32: =90.4545454545455/1.12 -> 80.762987 | F32: =WPPDom -> 87.0515 | G32: =TSDom -> 20.72 | H32: =F32-G32 -> 66.3315 | I32: =E32-H32 -> 14.431487 | J32: =IF(ISNA(VLOOKUP(C32,'Dom Enrolled Accounts'!$A:$B,2,0))=TRUE,0,VLOOKUP(C32,'Dom Enrolled Accounts'!$A:$B,2,0)) -> 15.6 | K32: =IF(J32=0,0,J32-I32) -> 1.168513 | L32: =IF(ISNA(VLOOKUP(C32,'Dom Enrolled Accounts'!$A:$C,3,0))=TRUE,0,VLOOKUP(C32,'Dom Enrolled Accounts'!$A:$C,3,0)) -> 2.05 | M32: =IF(L32>K32,K32,L32) -> 1.168513 | N32: =IF(M32<0,0,M32*D32) -> 12.853643
A33: 45880 | B33: 38144 | C33: EMR FOOD CART JENNY /FREDIE PANES | D33: 11 | E33: =90.4545454545455/1.12 -> 80.762987 | F33: =WPPDom -> 87.0515 | G33: =TSDom -> 20.72 | H33: =F33-G33 -> 66.3315 | I33: =E33-H33 -> 14.431487 | J33: =IF(ISNA(VLOOKUP(C33,'Dom Enrolled Accounts'!$A:$B,2,0))=TRUE,0,VLOOKUP(C33,'Dom Enrolled Accounts'!$A:$B,2,0)) -> 15.6 | K33: =IF(J33=0,0,J33-I33) -> 1.168513 | L33: =IF(ISNA(VLOOKUP(C33,'Dom Enrolled Accounts'!$A:$C,3,0))=TRUE,0,VLOOKUP(C33,'Dom Enrolled Accounts'!$A:$C,3,0)) -> 2.05 | M33: =IF(L33>K33,K33,L33) -> 1.168513 | N33: =IF(M33<0,0,M33*D33) -> 12.853643
A34: 11/15/2025 | B34: 38337 | C34: EMR FOOD CART JENNY /FREDIE PANES | D34: 11 | E34: =90.4545454545455/1.12 -> 80.762987 | F34: =WPPDom -> 87.0515 | G34: =TSDom -> 20.72 | H34: =F34-G34 -> 66.3315 | I34: =E34-H34 -> 14.431487 | J34: =IF(ISNA(VLOOKUP(C34,'Dom Enrolled Accounts'!$A:$B,2,0))=TRUE,0,VLOOKUP(C34,'Dom Enrolled Accounts'!$A:$B,2,0)) -> 15.6 | K34: =IF(J34=0,0,J34-I34) -> 1.168513 | L34: =IF(ISNA(VLOOKUP(C34,'Dom Enrolled Accounts'!$A:$C,3,0))=TRUE,0,VLOOKUP(C34,'Dom Enrolled Accounts'!$A:$C,3,0)) -> 2.05 | M34: =IF(L34>K34,K34,L34) -> 1.168513 | N34: =IF(M34<0,0,M34*D34) -> 12.853643
A35: 1/21/2025 | B35: 38532 | C35: EMR FOOD CART JENNY /FREDIE PANES | D35: 11 | E35: =90.4545454545455/1.12 -> 80.762987 | F35: =WPPDom -> 87.0515 | G35: =TSDom -> 20.72 | H35: =F35-G35 -> 66.3315 | I35: =E35-H35 -> 14.431487 | J35: =IF(ISNA(VLOOKUP(C35,'Dom Enrolled Accounts'!$A:$B,2,0))=TRUE,0,VLOOKUP(C35,'Dom Enrolled Accounts'!$A:$B,2,0)) -> 15.6 | K35: =IF(J35=0,0,J35-I35) -> 1.168513 | L35: =IF(ISNA(VLOOKUP(C35,'Dom Enrolled Accounts'!$A:$C,3,0))=TRUE,0,VLOOKUP(C35,'Dom Enrolled Accounts'!$A:$C,3,0)) -> 2.05 | M35: =IF(L35>K35,K35,L35) -> 1.168513 | N35: =IF(M35<0,0,M35*D35) -> 12.853643
A36: 46002 | B36: 38261 | C36: GIGANTE ROQUE VARGAS | D36: 11 | E36: =995/D36/1.12 -> 80.762987 | F36: =WPPDom -> 87.0515 | G36: =TSDom -> 20.72 | H36: =F36-G36 -> 66.3315 | I36: =E36-H36 -> 14.431487 | J36: =IF(ISNA(VLOOKUP(C36,'Dom Enrolled Accounts'!$A:$B,2,0))=TRUE,0,VLOOKUP(C36,'Dom Enrolled Accounts'!$A:$B,2,0)) -> 15.6 | K36: =IF(J36=0,0,J36-I36) -> 1.168513 | L36: =IF(ISNA(VLOOKUP(C36,'Dom Enrolled Accounts'!$A:$C,3,0))=TRUE,0,VLOOKUP(C36,'Dom Enrolled Accounts'!$A:$C,3,0)) -> 2.05 | M36: =IF(L36>K36,K36,L36) -> 1.168513 | N36: =IF(M36<0,0,M36*D36) -> 12.853643
A37: 11/13/2025 | B37: 38291 | C37: GIGANTE ROQUE VARGAS | D37: 11 | E37: =995/D37/1.12 -> 80.762987 | F37: =WPPDom -> 87.0515 | G37: =TSDom -> 20.72 | H37: =F37-G37 -> 66.3315 | I37: =E37-H37 -> 14.431487 | J37: =IF(ISNA(VLOOKUP(C37,'Dom Enrolled Accounts'!$A:$B,2,0))=TRUE,0,VLOOKUP(C37,'Dom Enrolled Accounts'!$A:$B,2,0)) -> 15.6 | K37: =IF(J37=0,0,J37-I37) -> 1.168513 | L37: =IF(ISNA(VLOOKUP(C37,'Dom Enrolled Accounts'!$A:$C,3,0))=TRUE,0,VLOOKUP(C37,'Dom Enrolled Accounts'!$A:$C,3,0)) -> 2.05 | M37: =IF(L37>K37,K37,L37) -> 1.168513 | N37: =IF(M37<0,0,M37*D37) -> 12.853643
A38: 11/19/2025 | B38: 38456 | C38: GIGANTE ROQUE VARGAS | D38: 11 | E38: =995/D38/1.12 -> 80.762987 | F38: =WPPDom -> 87.0515 | G38: =TSDom -> 20.72 | H38: =F38-G38 -> 66.3315 | I38: =E38-H38 -> 14.431487 | J38: =IF(ISNA(VLOOKUP(C38,'Dom Enrolled Accounts'!$A:$B,2,0))=TRUE,0,VLOOKUP(C38,'Dom Enrolled Accounts'!$A:$B,2,0)) -> 15.6 | K38: =IF(J38=0,0,J38-I38) -> 1.168513 | L38: =IF(ISNA(VLOOKUP(C38,'Dom Enrolled Accounts'!$A:$C,3,0))=TRUE,0,VLOOKUP(C38,'Dom Enrolled Accounts'!$A:$C,3,0)) -> 2.05 | M38: =IF(L38>K38,K38,L38) -> 1.168513 | N38: =IF(M38<0,0,M38*D38) -> 12.853643
A39: 11/28/2025 | B39: 38727 | C39: GIGANTE ROQUE VARGAS | D39: 11 | E39: =995/D39/1.12 -> 80.762987 | F39: =WPPDom -> 87.0515 | G39: =TSDom -> 20.72 | H39: =F39-G39 -> 66.3315 | I39: =E39-H39 -> 14.431487 | J39: =IF(ISNA(VLOOKUP(C39,'Dom Enrolled Accounts'!$A:$B,2,0))=TRUE,0,VLOOKUP(C39,'Dom Enrolled Accounts'!$A:$B,2,0)) -> 15.6 | K39: =IF(J39=0,0,J39-I39) -> 1.168513 | L39: =IF(ISNA(VLOOKUP(C39,'Dom Enrolled Accounts'!$A:$C,3,0))=TRUE,0,VLOOKUP(C39,'Dom Enrolled Accounts'!$A:$C,3,0)) -> 2.05 | M39: =IF(L39>K39,K39,L39) -> 1.168513 | N39: =IF(M39<0,0,M39*D39) -> 12.853643
A40: 45668 | B40: 37935 | C40: GONZAGA ANITA | D40: 22 | E40: =1990/D40/1.12 -> 80.762987 | F40: =WPPDom -> 87.0515 | G40: =TSDom -> 20.72 | H40: =F40-G40 -> 66.3315 | I40: =E40-H40 -> 14.431487 | J40: =IF(ISNA(VLOOKUP(C40,'Dom Enrolled Accounts'!$A:$B,2,0))=TRUE,0,VLOOKUP(C40,'Dom Enrolled Accounts'!$A:$B,2,0)) -> 15.6 | K40: =IF(J40=0,0,J40-I40) -> 1.168513 | L40: =IF(ISNA(VLOOKUP(C40,'Dom Enrolled Accounts'!$A:$C,3,0))=TRUE,0,VLOOKUP(C40,'Dom Enrolled Accounts'!$A:$C,3,0)) -> 2.05 | M40: =IF(L40>K40,K40,L40) -> 1.168513 | N40: =IF(M40<0,0,M40*D40) -> 25.707286
A41: 45941 | B41: 38204 | C41: GONZAGA ANITA | D41: 22 | E41: =1990/D41/1.12 -> 80.762987 | F41: =WPPDom -> 87.0515 | G41: =TSDom -> 20.72 | H41: =F41-G41 -> 66.3315 | I41: =E41-H41 -> 14.431487 | J41: =IF(ISNA(VLOOKUP(C41,'Dom Enrolled Accounts'!$A:$B,2,0))=TRUE,0,VLOOKUP(C41,'Dom Enrolled Accounts'!$A:$B,2,0)) -> 15.6 | K41: =IF(J41=0,0,J41-I41) -> 1.168513 | L41: =IF(ISNA(VLOOKUP(C41,'Dom Enrolled Accounts'!$A:$C,3,0))=TRUE,0,VLOOKUP(C41,'Dom Enrolled Accounts'!$A:$C,3,0)) -> 2.05 | M41: =IF(L41>K41,K41,L41) -> 1.168513 | N41: =IF(M41<0,0,M41*D41) -> 25.707286
...

Sheet Com Enrolled Accounts
A2: Account Name | B2: GMS Rate | C2: Approved Support | D2: Volume per month (kg) | E2: Deadline for repair | F2: Date enrolled
A3: =INDEX('[3]Enrolled accounts Com'!$A3:$M3,MATCH(A$2,'[3]Enrolled accounts Com'!$A$2:$M$2,0)) -> ABAN LAUNDRY | B3: =INDEX('[3]Enrolled accounts Com'!$A3:$M3,MATCH(B$2,'[3]Enrolled accounts Com'!$A$2:$M$2,0)) -> 8.27 | C3: =INDEX('[3]Enrolled accounts Com'!$A3:$M3,MATCH(C$2,'[3]Enrolled accounts Com'!$A$2:$M$2,0)) -> 15.03 | D3: =INDEX('[3]Enrolled accounts Com'!$A3:$M3,MATCH(D$2,'[3]Enrolled accounts Com'!$A$2:$M$2,0)) -> 50 | E3: =INDEX('[3]Enrolled accounts Com'!$A3:$M3,MATCH(E$2,'[3]Enrolled accounts Com'!$A$2:$M$2,0)) -> 0 | F3: =INDEX('[3]Enrolled accounts Com'!$A3:$M3,MATCH(F$2,'[3]Enrolled accounts Com'!$A$2:$M$2,0)) -> 45195
A4: =INDEX('[3]Enrolled accounts Com'!$A4:$M4,MATCH(A3,'[3]Enrolled accounts Com'!$A3:$M3,0)) -> AC LAUNDRY SHOP | B4: =INDEX('[3]Enrolled accounts Com'!$A4:$M4,MATCH(B$2,'[3]Enrolled accounts Com'!$A$2:$M$2,0)) -> 8.27 | C4: =INDEX('[3]Enrolled accounts Com'!$A4:$M4,MATCH(C$2,'[3]Enrolled accounts Com'!$A$2:$M$2,0)) -> 4.05 | D4: =INDEX('[3]Enrolled accounts Com'!$A4:$M4,MATCH(D$2,'[3]Enrolled accounts Com'!$A$2:$M$2,0)) -> 150 | E4: =INDEX('[3]Enrolled accounts Com'!$A4:$M4,MATCH(E$2,'[3]Enrolled accounts Com'!$A$2:$M$2,0)) -> 0 | F4: =INDEX('[3]Enrolled accounts Com'!$A4:$M4,MATCH(F$2,'[3]Enrolled accounts Com'!$A$2:$M$2,0)) -> 45895
A5: =INDEX('[3]Enrolled accounts Com'!$A5:$M5,MATCH(A4,'[3]Enrolled accounts Com'!$A4:$M4,0)) -> ANGEL & MAE RESTAURANT | B5: =INDEX('[3]Enrolled accounts Com'!$A5:$M5,MATCH(B$2,'[3]Enrolled accounts Com'!$A$2:$M$2,0)) -> 8.27 | C5: =INDEX('[3]Enrolled accounts Com'!$A5:$M5,MATCH(C$2,'[3]Enrolled accounts Com'!$A$2:$M$2,0)) -> 15.03 | D5: =INDEX('[3]Enrolled accounts Com'!$A5:$M5,MATCH(D$2,'[3]Enrolled accounts Com'!$A$2:$M$2,0)) -> 50 | E5: =INDEX('[3]Enrolled accounts Com'!$A5:$M5,MATCH(E$2,'[3]Enrolled accounts Com'!$A$2:$M$2,0)) -> 0 | F5: =INDEX('[3]Enrolled accounts Com'!$A5:$M5,MATCH(F$2,'[3]Enrolled accounts Com'!$A$2:$M$2,0)) -> 45195
A6: =INDEX('[3]Enrolled accounts Com'!$A6:$M6,MATCH(A5,'[3]Enrolled accounts Com'!$A5:$M5,0)) -> AVEGAIL'S LAUNDRY | B6: =INDEX('[3]Enrolled accounts Com'!$A6:$M6,MATCH(B$2,'[3]Enrolled accounts Com'!$A$2:$M$2,0)) -> 8.27 | C6: =INDEX('[3]Enrolled accounts Com'!$A6:$M6,MATCH(C$2,'[3]Enrolled accounts Com'!$A$2:$M$2,0)) -> 25.23 | D6: =INDEX('[3]Enrolled accounts Com'!$A6:$M6,MATCH(D$2,'[3]Enrolled accounts Com'!$A$2:$M$2,0)) -> 300 | E6: =INDEX('[3]Enrolled accounts Com'!$A6:$M6,MATCH(E$2,'[3]Enrolled accounts Com'!$A$2:$M$2,0)) -> 0 | F6: =INDEX('[3]Enrolled accounts Com'!$A6:$M6,MATCH(F$2,'[3]Enrolled accounts Com'!$A$2:$M$2,0)) -> 44530
A7: =INDEX('[3]Enrolled accounts Com'!$A7:$M7,MATCH(A6,'[3]Enrolled accounts Com'!$A6:$M6,0)) -> backyard edible Garden -Shiela Delos Reyes | B7: =INDEX('[3]Enrolled accounts Com'!$A7:$M7,MATCH(B$2,'[3]Enrolled accounts Com'!$A$2:$M$2,0)) -> 8.27 | C7: =INDEX('[3]Enrolled accounts Com'!$A7:$M7,MATCH(C$2,'[3]Enrolled accounts Com'!$A$2:$M$2,0)) -> 8.84 | D7: =INDEX('[3]Enrolled accounts Com'!$A7:$M7,MATCH(D$2,'[3]Enrolled accounts Com'!$A$2:$M$2,0)) -> 200 | E7: =INDEX('[3]Enrolled accounts Com'!$A7:$M7,MATCH(E$2,'[3]Enrolled accounts Com'!$A$2:$M$2,0)) -> 0 | F7: =INDEX('[3]Enrolled accounts Com'!$A7:$M7,MATCH(F$2,'[3]Enrolled accounts Com'!$A$2:$M$2,0)) -> 44738
A8: =INDEX('[3]Enrolled accounts Com'!$A8:$M8,MATCH(A7,'[3]Enrolled accounts Com'!$A7:$M7,0)) -> CHERISH RESORT | B8: =INDEX('[3]Enrolled accounts Com'!$A8:$M8,MATCH(B$2,'[3]Enrolled accounts Com'!$A$2:$M$2,0)) -> 8.27 | C8: =INDEX('[3]Enrolled accounts Com'!$A8:$M8,MATCH(C$2,'[3]Enrolled accounts Com'!$A$2:$M$2,0)) -> 15.03 | D8: =INDEX('[3]Enrolled accounts Com'!$A8:$M8,MATCH(D$2,'[3]Enrolled accounts Com'!$A$2:$M$2,0)) -> 200 | E8: =INDEX('[3]Enrolled accounts Com'!$A8:$M8,MATCH(E$2,'[3]Enrolled accounts Com'!$A$2:$M$2,0)) -> 0 | F8: =INDEX('[3]Enrolled accounts Com'!$A8:$M8,MATCH(F$2,'[3]Enrolled accounts Com'!$A$2:$M$2,0)) -> 45501
A9: =INDEX('[3]Enrolled accounts Com'!$A9:$M9,MATCH(A8,'[3]Enrolled accounts Com'!$A8:$M8,0)) -> CJSCJ OPC CRISPY KING | B9: =INDEX('[3]Enrolled accounts Com'!$A9:$M9,MATCH(B$2,'[3]Enrolled accounts Com'!$A$2:$M$2,0)) -> 8.27 | C9: =INDEX('[3]Enrolled accounts Com'!$A9:$M9,MATCH(C$2,'[3]Enrolled accounts Com'!$A$2:$M$2,0)) -> 14.75 | D9: =INDEX('[3]Enrolled accounts Com'!$A9:$M9,MATCH(D$2,'[3]Enrolled accounts Com'!$A$2:$M$2,0)) -> 300 | E9: =INDEX('[3]Enrolled accounts Com'!$A9:$M9,MATCH(E$2,'[3]Enrolled accounts Com'!$A$2:$M$2,0)) -> 0 | F9: =INDEX('[3]Enrolled accounts Com'!$A9:$M9,MATCH(F$2,'[3]Enrolled accounts Com'!$A$2:$M$2,0)) -> 45864
A10: =INDEX('[3]Enrolled accounts Com'!$A10:$M10,MATCH(A9,'[3]Enrolled accounts Com'!$A9:$M9,0)) -> DAMPA RESTO BAR | B10: =INDEX('[3]Enrolled accounts Com'!$A10:$M10,MATCH(B$2,'[3]Enrolled accounts Com'!$A$2:$M$2,0)) -> 8.27 | C10: =INDEX('[3]Enrolled accounts Com'!$A10:$M10,MATCH(C$2,'[3]Enrolled accounts Com'!$A$2:$M$2,0)) -> 4.04 | D10: =INDEX('[3]Enrolled accounts Com'!$A10:$M10,MATCH(D$2,'[3]Enrolled accounts Com'!$A$2:$M$2,0)) -> 100 | E10: =INDEX('[3]Enrolled accounts Com'!$A10:$M10,MATCH(E$2,'[3]Enrolled accounts Com'!$A$2:$M$2,0)) -> 0 | F10: =INDEX('[3]Enrolled accounts Com'!$A10:$M10,MATCH(F$2,'[3]Enrolled accounts Com'!$A$2:$M$2,0)) -> 45634
A11: =INDEX('[3]Enrolled accounts Com'!$A11:$M11,MATCH(A10,'[3]Enrolled accounts Com'!$A10:$M10,0)) -> DJA CATERING SERVICES CRISPY KING | B11: =INDEX('[3]Enrolled accounts Com'!$A11:$M11,MATCH(B$2,'[3]Enrolled accounts Com'!$A$2:$M$2,0)) -> 8.27 | C11: =INDEX('[3]Enrolled accounts Com'!$A11:$M11,MATCH(C$2,'[3]Enrolled accounts Com'!$A$2:$M$2,0)) -> 12.97 | D11: =INDEX('[3]Enrolled accounts Com'!$A11:$M11,MATCH(D$2,'[3]Enrolled accounts Com'!$A$2:$M$2,0)) -> 300 | E11: =INDEX('[3]Enrolled accounts Com'!$A11:$M11,MATCH(E$2,'[3]Enrolled accounts Com'!$A$2:$M$2,0)) -> 0 | F11: =INDEX('[3]Enrolled accounts Com'!$A11:$M11,MATCH(F$2,'[3]Enrolled accounts Com'!$A$2:$M$2,0)) -> 45730
A12: =INDEX('[3]Enrolled accounts Com'!$A12:$M12,MATCH(A11,'[3]Enrolled accounts Com'!$A11:$M11,0)) -> DJJM CRISPY KING NOY BIGOL | B12: =INDEX('[3]Enrolled accounts Com'!$A12:$M12,MATCH(B$2,'[3]Enrolled accounts Com'!$A$2:$M$2,0)) -> 8.27 | C12: =INDEX('[3]Enrolled accounts Com'!$A12:$M12,MATCH(C$2,'[3]Enrolled accounts Com'!$A$2:$M$2,0)) -> 12.96 | D12: =INDEX('[3]Enrolled accounts Com'!$A12:$M12,MATCH(D$2,'[3]Enrolled accounts Com'!$A$2:$M$2,0)) -> 250 | E12: =INDEX('[3]Enrolled accounts Com'!$A12:$M12,MATCH(E$2,'[3]Enrolled accounts Com'!$A$2:$M$2,0)) -> 0 | F12: =INDEX('[3]Enrolled accounts Com'!$A12:$M12,MATCH(F$2,'[3]Enrolled accounts Com'!$A$2:$M$2,0)) -> 45803
A13: =INDEX('[3]Enrolled accounts Com'!$A13:$M13,MATCH(A12,'[3]Enrolled accounts Com'!$A12:$M12,0)) -> DJJM FOOD HUB | B13: =INDEX('[3]Enrolled accounts Com'!$A13:$M13,MATCH(B$2,'[3]Enrolled accounts Com'!$A$2:$M$2,0)) -> 8.27 | C13: =INDEX('[3]Enrolled accounts Com'!$A13:$M13,MATCH(C$2,'[3]Enrolled accounts Com'!$A$2:$M$2,0)) -> 12.97 | D13: =INDEX('[3]Enrolled accounts Com'!$A13:$M13,MATCH(D$2,'[3]Enrolled accounts Com'!$A$2:$M$2,0)) -> 50 | E13: =INDEX('[3]Enrolled accounts Com'!$A13:$M13,MATCH(E$2,'[3]Enrolled accounts Com'!$A$2:$M$2,0)) -> 0 | F13: =INDEX('[3]Enrolled accounts Com'!$A13:$M13,MATCH(F$2,'[3]Enrolled accounts Com'!$A$2:$M$2,0)) -> 45730
A14: =INDEX('[3]Enrolled accounts Com'!$A14:$M14,MATCH(A13,'[3]Enrolled accounts Com'!$A13:$M13,0)) -> DR. CHESTER LEE | B14: =INDEX('[3]Enrolled accounts Com'!$A14:$M14,MATCH(B$2,'[3]Enrolled accounts Com'!$A$2:$M$2,0)) -> 8.27 | C14: =INDEX('[3]Enrolled accounts Com'!$A14:$M14,MATCH(C$2,'[3]Enrolled accounts Com'!$A$2:$M$2,0)) -> 14.76 | D14: =INDEX('[3]Enrolled accounts Com'!$A14:$M14,MATCH(D$2,'[3]Enrolled accounts Com'!$A$2:$M$2,0)) -> 150 | E14: =INDEX('[3]Enrolled accounts Com'!$A14:$M14,MATCH(E$2,'[3]Enrolled accounts Com'!$A$2:$M$2,0)) -> 0 | F14: =INDEX('[3]Enrolled accounts Com'!$A14:$M14,MATCH(F$2,'[3]Enrolled accounts Com'!$A$2:$M$2,0)) -> 45653
A15: =INDEX('[3]Enrolled accounts Com'!$A15:$M15,MATCH(A14,'[3]Enrolled accounts Com'!$A14:$M14,0)) -> EZ CAFÉ | B15: =INDEX('[3]Enrolled accounts Com'!$A15:$M15,MATCH(B$2,'[3]Enrolled accounts Com'!$A$2:$M$2,0)) -> 8.27 | C15: =INDEX('[3]Enrolled accounts Com'!$A15:$M15,MATCH(C$2,'[3]Enrolled accounts Com'!$A$2:$M$2,0)) -> 10.31 | D15: =INDEX('[3]Enrolled accounts Com'!$A15:$M15,MATCH(D$2,'[3]Enrolled accounts Com'!$A$2:$M$2,0)) -> 100 | E15: =INDEX('[3]Enrolled accounts Com'!$A15:$M15,MATCH(E$2,'[3]Enrolled accounts Com'!$A$2:$M$2,0)) -> 0 | F15: =INDEX('[3]Enrolled accounts Com'!$A15:$M15,MATCH(F$2,'[3]Enrolled accounts Com'!$A$2:$M$2,0)) -> 45501
A16: =INDEX('[3]Enrolled accounts Com'!$A16:$M16,MATCH(A$15,'[3]Enrolled accounts Com'!$A15:$M15,0)) -> FRANCE LAUNDRY | B16: =INDEX('[3]Enrolled accounts Com'!$A16:$M16,MATCH(B$2,'[3]Enrolled accounts Com'!$A$2:$M$2,0)) -> 8.27 | C16: =INDEX('[3]Enrolled accounts Com'!$A16:$M16,MATCH(C$2,'[3]Enrolled accounts Com'!$A$2:$M$2,0)) -> 11.21 | D16: =INDEX('[3]Enrolled accounts Com'!$A16:$M16,MATCH(D$2,'[3]Enrolled accounts Com'!$A$2:$M$2,0)) -> 100 | E16: =INDEX('[3]Enrolled accounts Com'!$A16:$M16,MATCH(E$2,'[3]Enrolled accounts Com'!$A$2:$M$2,0)) -> 0 | F16: =INDEX('[3]Enrolled accounts Com'!$A16:$M16,MATCH(F$2,'[3]Enrolled accounts Com'!$A$2:$M$2,0)) -> 45501
A17: =INDEX('[3]Enrolled accounts Com'!$A17:$M17,MATCH(A16,'[3]Enrolled accounts Com'!$A16:$M16,0)) -> GAACT CONSTRUCTION AND SUPPLY | B17: =INDEX('[3]Enrolled accounts Com'!$A17:$M17,MATCH(B$2,'[3]Enrolled accounts Com'!$A$2:$M$2,0)) -> 8.27 | C17: =INDEX('[3]Enrolled accounts Com'!$A17:$M17,MATCH(C$2,'[3]Enrolled accounts Com'!$A$2:$M$2,0)) -> 4.06 | D17: =INDEX('[3]Enrolled accounts Com'!$A17:$M17,MATCH(D$2,'[3]Enrolled accounts Com'!$A$2:$M$2,0)) -> 100 | E17: =INDEX('[3]Enrolled accounts Com'!$A17:$M17,MATCH(E$2,'[3]Enrolled accounts Com'!$A$2:$M$2,0)) -> 45991 | F17: =INDEX('[3]Enrolled accounts Com'!$A17:$M17,MATCH(F$2,'[3]Enrolled accounts Com'!$A$2:$M$2,0)) -> 45501
A18: =INDEX('[3]Enrolled accounts Com'!$A18:$M18,MATCH(A17,'[3]Enrolled accounts Com'!$A17:$M17,0)) -> HIGHWAYS LAUNDRY SHOP | B18: =INDEX('[3]Enrolled accounts Com'!$A18:$M18,MATCH(B$2,'[3]Enrolled accounts Com'!$A$2:$M$2,0)) -> 8.27 | C18: =INDEX('[3]Enrolled accounts Com'!$A18:$M18,MATCH(C$2,'[3]Enrolled accounts Com'!$A$2:$M$2,0)) -> 12.97 | D18: =INDEX('[3]Enrolled accounts Com'!$A18:$M18,MATCH(D$2,'[3]Enrolled accounts Com'!$A$2:$M$2,0)) -> 50 | E18: =INDEX('[3]Enrolled accounts Com'!$A18:$M18,MATCH(E$2,'[3]Enrolled accounts Com'!$A$2:$M$2,0)) -> 0 | F18: =INDEX('[3]Enrolled accounts Com'!$A18:$M18,MATCH(F$2,'[3]Enrolled accounts Com'!$A$2:$M$2,0)) -> 45730
A19: =INDEX('[3]Enrolled accounts Com'!$A19:$M19,MATCH(A18,'[3]Enrolled accounts Com'!$A18:$M18,0)) -> ISAIAH 4319 FOOD SERVICES(CRISPY KING) | B19: =INDEX('[3]Enrolled accounts Com'!$A19:$M19,MATCH(B$2,'[3]Enrolled accounts Com'!$A$2:$M$2,0)) -> 8.27 | C19: =INDEX('[3]Enrolled accounts Com'!$A19:$M19,MATCH(C$2,'[3]Enrolled accounts Com'!$A$2:$M$2,0)) -> 15.02 | D19: =INDEX('[3]Enrolled accounts Com'!$A19:$M19,MATCH(D$2,'[3]Enrolled accounts Com'!$A$2:$M$2,0)) -> 250 | E19: =INDEX('[3]Enrolled accounts Com'!$A19:$M19,MATCH(E$2,'[3]Enrolled accounts Com'!$A$2:$M$2,0)) -> 0 | F19: =INDEX('[3]Enrolled accounts Com'!$A19:$M19,MATCH(F$2,'[3]Enrolled accounts Com'!$A$2:$M$2,0)) -> 45260
A20: =INDEX('[3]Enrolled accounts Com'!$A20:$M20,MATCH(A19,'[3]Enrolled accounts Com'!$A19:$M19,0)) -> JUAN HOUR LAUNDRY | B20: =INDEX('[3]Enrolled accounts Com'!$A20:$M20,MATCH(B$2,'[3]Enrolled accounts Com'!$A$2:$M$2,0)) -> 8.27 | C20: =INDEX('[3]Enrolled accounts Com'!$A20:$M20,MATCH(C$2,'[3]Enrolled accounts Com'!$A$2:$M$2,0)) -> 15.03 | D20: =INDEX('[3]Enrolled accounts Com'!$A20:$M20,MATCH(D$2,'[3]Enrolled accounts Com'!$A$2:$M$2,0)) -> 400 | E20: =INDEX('[3]Enrolled accounts Com'!$A20:$M20,MATCH(E$2,'[3]Enrolled accounts Com'!$A$2:$M$2,0)) -> 0 | F20: =INDEX('[3]Enrolled accounts Com'!$A20:$M20,MATCH(F$2,'[3]Enrolled accounts Com'!$A$2:$M$2,0)) -> 45501
A21: =INDEX('[3]Enrolled accounts Com'!$A21:$M21,MATCH(A20,'[3]Enrolled accounts Com'!$A20:$M20,0)) -> JUAN HOUR LAUNDRY SHOP | B21: =INDEX('[3]Enrolled accounts Com'!$A21:$M21,MATCH(B$2,'[3]Enrolled accounts Com'!$A$2:$M$2,0)) -> 8.27 | C21: =INDEX('[3]Enrolled accounts Com'!$A21:$M21,MATCH(C$2,'[3]Enrolled accounts Com'!$A$2:$M$2,0)) -> 15.02 | D21: =INDEX('[3]Enrolled accounts Com'!$A21:$M21,MATCH(D$2,'[3]Enrolled accounts Com'!$A$2:$M$2,0)) -> 150 | E21: =INDEX('[3]Enrolled accounts Com'!$A21:$M21,MATCH(E$2,'[3]Enrolled accounts Com'!$A$2:$M$2,0)) -> 0 | F21: =INDEX('[3]Enrolled accounts Com'!$A21:$M21,MATCH(F$2,'[3]Enrolled accounts Com'!$A$2:$M$2,0)) -> 45260
A22: =INDEX('[3]Enrolled accounts Com'!$A22:$M22,MATCH(A21,'[3]Enrolled accounts Com'!$A21:$M21,0)) -> JUNI DELAVIN | B22: =INDEX('[3]Enrolled accounts Com'!$A22:$M22,MATCH(B$2,'[3]Enrolled accounts Com'!$A$2:$M$2,0)) -> 8.27 | C22: =INDEX('[3]Enrolled accounts Com'!$A22:$M22,MATCH(C$2,'[3]Enrolled accounts Com'!$A$2:$M$2,0)) -> 7.6015 | D22: =INDEX('[3]Enrolled accounts Com'!$A22:$M22,MATCH(D$2,'[3]Enrolled accounts Com'!$A$2:$M$2,0)) -> 100 | E22: =INDEX('[3]Enrolled accounts Com'!$A22:$M22,MATCH(E$2,'[3]Enrolled accounts Com'!$A$2:$M$2,0)) -> 46022 | F22: =INDEX('[3]Enrolled accounts Com'!$A22:$M22,MATCH(F$2,'[3]Enrolled accounts Com'!$A$2:$M$2,0)) -> 45758
A23: =INDEX('[3]Enrolled accounts Com'!$A23:$M23,MATCH(A22,'[3]Enrolled accounts Com'!$A22:$M22,0)) -> KAIZEN LAUNDRY SHOP | B23: =INDEX('[3]Enrolled accounts Com'!$A23:$M23,MATCH(B$2,'[3]Enrolled accounts Com'!$A$2:$M$2,0)) -> 8.27 | C23: =INDEX('[3]Enrolled accounts Com'!$A23:$M23,MATCH(C$2,'[3]Enrolled accounts Com'!$A$2:$M$2,0)) -> 7.63 | D23: =INDEX('[3]Enrolled accounts Com'!$A23:$M23,MATCH(D$2,'[3]Enrolled accounts Com'!$A$2:$M$2,0)) -> 100 | E23: =INDEX('[3]Enrolled accounts Com'!$A23:$M23,MATCH(E$2,'[3]Enrolled accounts Com'!$A$2:$M$2,0)) -> 0 | F23: =INDEX('[3]Enrolled accounts Com'!$A23:$M23,MATCH(F$2,'[3]Enrolled accounts Com'!$A$2:$M$2,0)) -> 45501
A24: =INDEX('[3]Enrolled accounts Com'!$A24:$M24,MATCH(A23,'[3]Enrolled accounts Com'!$A23:$M23,0)) -> LA ARTIANNA HOTEL AND RESTAURANT | B24: =INDEX('[3]Enrolled accounts Com'!$A24:$M24,MATCH(B$2,'[3]Enrolled accounts Com'!$A$2:$M$2,0)) -> 8.27 | C24: =INDEX('[3]Enrolled accounts Com'!$A24:$M24,MATCH(C$2,'[3]Enrolled accounts Com'!$A$2:$M$2,0)) -> 4.05 | D24: =INDEX('[3]Enrolled accounts Com'!$A24:$M24,MATCH(D$2,'[3]Enrolled accounts Com'!$A$2:$M$2,0)) -> 200 | E24: =INDEX('[3]Enrolled accounts Com'!$A24:$M24,MATCH(E$2,'[3]Enrolled accounts Com'!$A$2:$M$2,0)) -> 0 | F24: =INDEX('[3]Enrolled accounts Com'!$A24:$M24,MATCH(F$2,'[3]Enrolled accounts Com'!$A$2:$M$2,0)) -> 45895
A25: =INDEX('[3]Enrolled accounts Com'!$A25:$M25,MATCH(A24,'[3]Enrolled accounts Com'!$A24:$M24,0)) -> LAUNDRULOX LAUNDRY SHOP | B25: =INDEX('[3]Enrolled accounts Com'!$A25:$M25,MATCH(B$2,'[3]Enrolled accounts Com'!$A$2:$M$2,0)) -> 8.27 | C25: =INDEX('[3]Enrolled accounts Com'!$A25:$M25,MATCH(C$2,'[3]Enrolled accounts Com'!$A$2:$M$2,0)) -> 11.1715 | D25: =INDEX('[3]Enrolled accounts Com'!$A25:$M25,MATCH(D$2,'[3]Enrolled accounts Com'!$A$2:$M$2,0)) -> 100 | E25: =INDEX('[3]Enrolled accounts Com'!$A25:$M25,MATCH(E$2,'[3]Enrolled accounts Com'!$A$2:$M$2,0)) -> 0 | F25: =INDEX('[3]Enrolled accounts Com'!$A25:$M25,MATCH(F$2,'[3]Enrolled accounts Com'!$A$2:$M$2,0)) -> 45761
A26: =INDEX('[3]Enrolled accounts Com'!$A26:$M26,MATCH(A25,'[3]Enrolled accounts Com'!$A25:$M25,0)) -> LUMPIA WRAPPER AROROY | B26: =INDEX('[3]Enrolled accounts Com'!$A26:$M26,MATCH(B$2,'[3]Enrolled accounts Com'!$A$2:$M$2,0)) -> 8.27 | C26: =INDEX('[3]Enrolled accounts Com'!$A26:$M26,MATCH(C$2,'[3]Enrolled accounts Com'!$A$2:$M$2,0)) -> 15.03 | D26: =INDEX('[3]Enrolled accounts Com'!$A26:$M26,MATCH(D$2,'[3]Enrolled accounts Com'!$A$2:$M$2,0)) -> 50 | E26: =INDEX('[3]Enrolled accounts Com'!$A26:$M26,MATCH(E$2,'[3]Enrolled accounts Com'!$A$2:$M$2,0)) -> 0 | F26: =INDEX('[3]Enrolled accounts Com'!$A26:$M26,MATCH(F$2,'[3]Enrolled accounts Com'!$A$2:$M$2,0)) -> 45195
A27: =INDEX('[3]Enrolled accounts Com'!$A27:$M27,MATCH(A26,'[3]Enrolled accounts Com'!$A26:$M26,0)) -> MARKY BIKOL RESTAURANT | B27: =INDEX('[3]Enrolled accounts Com'!$A27:$M27,MATCH(B$2,'[3]Enrolled accounts Com'!$A$2:$M$2,0)) -> 8.27 | C27: =INDEX('[3]Enrolled accounts Com'!$A27:$M27,MATCH(C$2,'[3]Enrolled accounts Com'!$A$2:$M$2,0)) -> 15.03 | D27: =INDEX('[3]Enrolled accounts Com'!$A27:$M27,MATCH(D$2,'[3]Enrolled accounts Com'!$A$2:$M$2,0)) -> 100 | E27: =INDEX('[3]Enrolled accounts Com'!$A27:$M27,MATCH(E$2,'[3]Enrolled accounts Com'!$A$2:$M$2,0)) -> 0 | F27: =INDEX('[3]Enrolled accounts Com'!$A27:$M27,MATCH(F$2,'[3]Enrolled accounts Com'!$A$2:$M$2,0)) -> 45501
A28: =INDEX('[3]Enrolled accounts Com'!$A28:$M28,MATCH(A27,'[3]Enrolled accounts Com'!$A27:$M27,0)) -> MASBATE LAUNDRY CENTER | B28: =INDEX('[3]Enrolled accounts Com'!$A28:$M28,MATCH(B$2,'[3]Enrolled accounts Com'!$A$2:$M$2,0)) -> 8.27 | C28: =INDEX('[3]Enrolled accounts Com'!$A28:$M28,MATCH(C$2,'[3]Enrolled accounts Com'!$A$2:$M$2,0)) -> 15.02 | D28: =INDEX('[3]Enrolled accounts Com'!$A28:$M28,MATCH(D$2,'[3]Enrolled accounts Com'!$A$2:$M$2,0)) -> 200 | E28: =INDEX('[3]Enrolled accounts Com'!$A28:$M28,MATCH(E$2,'[3]Enrolled accounts Com'!$A$2:$M$2,0)) -> 0 | F28: =INDEX('[3]Enrolled accounts Com'!$A28:$M28,MATCH(F$2,'[3]Enrolled accounts Com'!$A$2:$M$2,0)) -> 45412
... A1000: =INDEX('[3]Enrolled accounts Com'!$A1000:$M1000,MATCH(A999,'[3]Enrolled accounts Com'!$A999:$M999,0)) -> #N/A | B1000: =INDEX('[3]Enrolled accounts Com'!$A1000:$M1000,MATCH(B$2,'[3]Enrolled accounts Com'!$A$2:$M$2,0)) -> 0 | C1000: =INDEX('[3]Enrolled accounts Com'!$A1000:$M1000,MATCH(C$2,'[3]Enrolled accounts Com'!$A$2:$M$2,0)) -> 0 | D1000: =INDEX('[3]Enrolled accounts Com'!$A1000:$M1000,MATCH(D$2,'[3]Enrolled accounts Com'!$A$2:$M$2,0)) -> 0 | E1000: =INDEX('[3]Enrolled accounts Com'!$A1000:$M1000,MATCH(E$2,'[3]Enrolled accounts Com'!$A$2:$M$2,0)) -> 0 | F1000: =INDEX('[3]Enrolled accounts Com'!$A1000:$M1000,MATCH(F$2,'[3]Enrolled accounts Com'!$A$2:$M$2,0)) -> 0

Sheet Dom Enrolled Accounts
A2: Account Name | B2: GMS Rate | C2: Approved Support | D2: Volume per month (kg) | E2: Deadline for repair | F2: Date enrolled
